BEGIN:VCALENDAR
VERSION:2.0
PRODID:-//Lighthouse Christian Fellowship - ECPv6.15.20//NONSGML v1.0//EN
CALSCALE:GREGORIAN
METHOD:PUBLISH
X-WR-CALNAME:Lighthouse Christian Fellowship
X-ORIGINAL-URL:https://www.lcfelko.org
X-WR-CALDESC:Events for Lighthouse Christian Fellowship
REFRESH-INTERVAL;VALUE=DURATION:PT1H
X-Robots-Tag:noindex
X-PUBLISHED-TTL:PT1H
BEGIN:VTIMEZONE
TZID:America/Los_Angeles
BEGIN:DAYLIGHT
TZOFFSETFROM:-0800
TZOFFSETTO:-0700
TZNAME:PDT
DTSTART:20250309T100000
END:DAYLIGHT
BEGIN:STANDARD
TZOFFSETFROM:-0700
TZOFFSETTO:-0800
TZNAME:PST
DTSTART:20251102T090000
END:STANDARD
BEGIN:DAYLIGHT
TZOFFSETFROM:-0800
TZOFFSETTO:-0700
TZNAME:PDT
DTSTART:20260308T100000
END:DAYLIGHT
BEGIN:STANDARD
TZOFFSETFROM:-0700
TZOFFSETTO:-0800
TZNAME:PST
DTSTART:20261101T090000
END:STANDARD
BEGIN:DAYLIGHT
TZOFFSETFROM:-0800
TZOFFSETTO:-0700
TZNAME:PDT
DTSTART:20270314T100000
END:DAYLIGHT
BEGIN:STANDARD
TZOFFSETFROM:-0700
TZOFFSETTO:-0800
TZNAME:PST
DTSTART:20271107T090000
END:STANDARD
END:VTIMEZONE
BEGIN:VEVENT
DTSTART;TZID=America/Los_Angeles:20260329T083000
DTEND;TZID=America/Los_Angeles:20260329T100000
DTSTAMP:20260425T042029
CREATED:20260226T225747Z
LAST-MODIFIED:20260226T230027Z
UID:11524-1774773000-1774778400@www.lcfelko.org
SUMMARY:Dr. Kindell- Mega Tsunamis
DESCRIPTION:On Sunday\, March 29\,2026- Dr. Thomas Kindell will be presenting “Mega Tsunamis During Noah’s Flood” in lieu of our regularly scheduled 8:30am & 10:30am services
URL:https://www.lcfelko.org/event/dr-kindell-mega-tsunamis/
LOCATION:Lighthouse Christian Fellowship\, 2225 Industrial Way\, Elko\, NV\, 89801
END:VEVENT
BEGIN:VEVENT
DTSTART;TZID=America/Los_Angeles:20260329T103000
DTEND;TZID=America/Los_Angeles:20260329T120000
DTSTAMP:20260425T042029
CREATED:20260226T225859Z
LAST-MODIFIED:20260315T044746Z
UID:11526-1774780200-1774785600@www.lcfelko.org
SUMMARY:Dr. Kindell- Mega Tsunamis
DESCRIPTION:On Sunday\, March 29\,2026- Dr. Thomas Kindell will be presenting “Mega Tsunamis During Noah’s Flood” in lieu of our regularly scheduled 8:30am & 10:30am services
URL:https://www.lcfelko.org/event/dr-kindell-mega-tsunamis-2/
LOCATION:Lighthouse Christian Fellowship\, 2225 Industrial Way\, Elko\, NV\, 89801
END:VEVENT
END:VCALENDAR