BEGIN:VCALENDAR
VERSION:2.0
PRODID:-//Lighthouse Christian Fellowship - ECPv6.15.20//NONSGML v1.0//EN
CALSCALE:GREGORIAN
METHOD:PUBLISH
X-ORIGINAL-URL:https://www.lcfelko.org
X-WR-CALDESC:Events for Lighthouse Christian Fellowship
REFRESH-INTERVAL;VALUE=DURATION:PT1H
X-Robots-Tag:noindex
X-PUBLISHED-TTL:PT1H
BEGIN:VTIMEZONE
TZID:America/Los_Angeles
BEGIN:DAYLIGHT
TZOFFSETFROM:-0800
TZOFFSETTO:-0700
TZNAME:PDT
DTSTART:20240310T100000
END:DAYLIGHT
BEGIN:STANDARD
TZOFFSETFROM:-0700
TZOFFSETTO:-0800
TZNAME:PST
DTSTART:20241103T090000
END:STANDARD
BEGIN:DAYLIGHT
TZOFFSETFROM:-0800
TZOFFSETTO:-0700
TZNAME:PDT
DTSTART:20250309T100000
END:DAYLIGHT
BEGIN:STANDARD
TZOFFSETFROM:-0700
TZOFFSETTO:-0800
TZNAME:PST
DTSTART:20251102T090000
END:STANDARD
BEGIN:DAYLIGHT
TZOFFSETFROM:-0800
TZOFFSETTO:-0700
TZNAME:PDT
DTSTART:20260308T100000
END:DAYLIGHT
BEGIN:STANDARD
TZOFFSETFROM:-0700
TZOFFSETTO:-0800
TZNAME:PST
DTSTART:20261101T090000
END:STANDARD
END:VTIMEZONE
BEGIN:VEVENT
DTSTART;VALUE=DATE:20251109
DTEND;VALUE=DATE:20251110
DTSTAMP:20260420T145938
CREATED:20251022T220751Z
LAST-MODIFIED:20251022T220751Z
UID:11154-1762646400-1762732799@www.lcfelko.org
SUMMARY:Ladies Christmas Tea Meeting
DESCRIPTION:Ladies\, you are invited to the Christmas Tea Planning Meeting on November 9th after each AM Service; approximately 10:00am and 12:00pm.  Also\, we could certainly use your assistance during the Christmas Tea Work Days at 10:00am on November 13th and 14th.  Please call 775-397-2027 for more information…
URL:https://www.lcfelko.org/event/ladies-christmas-tea-meeting/
LOCATION:Lighthouse Christian Fellowship\, 2225 Industrial Way\, Elko\, NV\, 89801
END:VEVENT
BEGIN:VEVENT
DTSTART;TZID=America/Los_Angeles:20251109T083000
DTEND;TZID=America/Los_Angeles:20251109T100000
DTSTAMP:20260420T145938
CREATED:20251022T221202Z
LAST-MODIFIED:20251022T221202Z
UID:11163-1762677000-1762682400@www.lcfelko.org
SUMMARY:Early Service
DESCRIPTION:Our Sunday Early Service begins at 8:30am each week.  We systematically present and explain the Holy Scriptures\, Genesis through Revelation\, verse by verse.  If you have any questions about other services or studies\, please leave a message at 775-778-9502 and we will return your call. 
URL:https://www.lcfelko.org/event/early-service-347/
LOCATION:Lighthouse Christian Fellowship\, 2225 Industrial Way\, Elko\, NV\, 89801
END:VEVENT
BEGIN:VEVENT
DTSTART;TZID=America/Los_Angeles:20251109T103000
DTEND;TZID=America/Los_Angeles:20251109T120000
DTSTAMP:20260420T145938
CREATED:20251022T221526Z
LAST-MODIFIED:20251022T221526Z
UID:11173-1762684200-1762689600@www.lcfelko.org
SUMMARY:Service & Sun. School
DESCRIPTION:Our second Sunday morning Service begins at 10:30am each week.  This service includes Children’s Sunday School classes.  We systematically present and explain the Holy Scriptures\, Genesis through Revelation\, verse by verse.  If you have any questions about other services or studies\, please leave a message at 775-778-9502 and we will return your call.
URL:https://www.lcfelko.org/event/service-sun-school-338/
LOCATION:Lighthouse Christian Fellowship\, 2225 Industrial Way\, Elko\, NV\, 89801
END:VEVENT
END:VCALENDAR