BEGIN:VCALENDAR
VERSION:2.0
PRODID:-//Lighthouse Christian Fellowship - ECPv6.15.20//NONSGML v1.0//EN
CALSCALE:GREGORIAN
METHOD:PUBLISH
X-WR-CALNAME:Lighthouse Christian Fellowship
X-ORIGINAL-URL:https://www.lcfelko.org
X-WR-CALDESC:Events for Lighthouse Christian Fellowship
REFRESH-INTERVAL;VALUE=DURATION:PT1H
X-Robots-Tag:noindex
X-PUBLISHED-TTL:PT1H
BEGIN:VTIMEZONE
TZID:America/Los_Angeles
BEGIN:DAYLIGHT
TZOFFSETFROM:-0800
TZOFFSETTO:-0700
TZNAME:PDT
DTSTART:20240310T100000
END:DAYLIGHT
BEGIN:STANDARD
TZOFFSETFROM:-0700
TZOFFSETTO:-0800
TZNAME:PST
DTSTART:20241103T090000
END:STANDARD
BEGIN:DAYLIGHT
TZOFFSETFROM:-0800
TZOFFSETTO:-0700
TZNAME:PDT
DTSTART:20250309T100000
END:DAYLIGHT
BEGIN:STANDARD
TZOFFSETFROM:-0700
TZOFFSETTO:-0800
TZNAME:PST
DTSTART:20251102T090000
END:STANDARD
BEGIN:DAYLIGHT
TZOFFSETFROM:-0800
TZOFFSETTO:-0700
TZNAME:PDT
DTSTART:20260308T100000
END:DAYLIGHT
BEGIN:STANDARD
TZOFFSETFROM:-0700
TZOFFSETTO:-0800
TZNAME:PST
DTSTART:20261101T090000
END:STANDARD
END:VTIMEZONE
BEGIN:VEVENT
DTSTART;VALUE=DATE:20251102
DTEND;VALUE=DATE:20251103
DTSTAMP:20260420T155113
CREATED:20251022T223636Z
LAST-MODIFIED:20251022T223636Z
UID:11181-1762041600-1762127999@www.lcfelko.org
SUMMARY:Daylight Saving Time Ends
DESCRIPTION:Hello\, folks; it’s that time of year again.  On Sunday\, November 2\, 2025 at 2:00am\, Daylight Saving Time will end.  LCF Services will observe the “new” time for all it’s services…
URL:https://www.lcfelko.org/event/daylight-saving-time-ends/
LOCATION:Lighthouse Christian Fellowship\, 2225 Industrial Way\, Elko\, NV\, 89801
END:VEVENT
BEGIN:VEVENT
DTSTART;TZID=America/Los_Angeles:20251102T083000
DTEND;TZID=America/Los_Angeles:20251102T100000
DTSTAMP:20260420T155113
CREATED:20251022T221127Z
LAST-MODIFIED:20251022T221127Z
UID:11161-1762072200-1762077600@www.lcfelko.org
SUMMARY:Early Service
DESCRIPTION:Our Sunday Early Service begins at 8:30am each week.  We systematically present and explain the Holy Scriptures\, Genesis through Revelation\, verse by verse.  If you have any questions about other services or studies\, please leave a message at 775-778-9502 and we will return your call. 
URL:https://www.lcfelko.org/event/early-service-346/
LOCATION:Lighthouse Christian Fellowship\, 2225 Industrial Way\, Elko\, NV\, 89801
END:VEVENT
BEGIN:VEVENT
DTSTART;TZID=America/Los_Angeles:20251102T103000
DTEND;TZID=America/Los_Angeles:20251102T120000
DTSTAMP:20260420T155113
CREATED:20251022T221449Z
LAST-MODIFIED:20251022T221449Z
UID:11171-1762079400-1762084800@www.lcfelko.org
SUMMARY:Service & Sun. School
DESCRIPTION:Our second Sunday morning Service begins at 10:30am each week.  This service includes Children’s Sunday School classes.  We systematically present and explain the Holy Scriptures\, Genesis through Revelation\, verse by verse.  If you have any questions about other services or studies\, please leave a message at 775-778-9502 and we will return your call.
URL:https://www.lcfelko.org/event/service-sun-school-337/
LOCATION:Lighthouse Christian Fellowship\, 2225 Industrial Way\, Elko\, NV\, 89801
END:VEVENT
END:VCALENDAR