BEGIN:VCALENDAR
VERSION:2.0
PRODID:-//Lighthouse Christian Fellowship - ECPv6.15.20//NONSGML v1.0//EN
CALSCALE:GREGORIAN
METHOD:PUBLISH
X-WR-CALNAME:Lighthouse Christian Fellowship
X-ORIGINAL-URL:https://www.lcfelko.org
X-WR-CALDESC:Events for Lighthouse Christian Fellowship
REFRESH-INTERVAL;VALUE=DURATION:PT1H
X-Robots-Tag:noindex
X-PUBLISHED-TTL:PT1H
BEGIN:VTIMEZONE
TZID:America/Los_Angeles
BEGIN:DAYLIGHT
TZOFFSETFROM:-0800
TZOFFSETTO:-0700
TZNAME:PDT
DTSTART:20240310T100000
END:DAYLIGHT
BEGIN:STANDARD
TZOFFSETFROM:-0700
TZOFFSETTO:-0800
TZNAME:PST
DTSTART:20241103T090000
END:STANDARD
BEGIN:DAYLIGHT
TZOFFSETFROM:-0800
TZOFFSETTO:-0700
TZNAME:PDT
DTSTART:20250309T100000
END:DAYLIGHT
BEGIN:STANDARD
TZOFFSETFROM:-0700
TZOFFSETTO:-0800
TZNAME:PST
DTSTART:20251102T090000
END:STANDARD
BEGIN:DAYLIGHT
TZOFFSETFROM:-0800
TZOFFSETTO:-0700
TZNAME:PDT
DTSTART:20260308T100000
END:DAYLIGHT
BEGIN:STANDARD
TZOFFSETFROM:-0700
TZOFFSETTO:-0800
TZNAME:PST
DTSTART:20261101T090000
END:STANDARD
END:VTIMEZONE
BEGIN:VEVENT
DTSTART;VALUE=DATE:20251019
DTEND;VALUE=DATE:20251020
DTSTAMP:20260420T121612
CREATED:20251002T215534Z
LAST-MODIFIED:20251002T215600Z
UID:11142-1760832000-1760918399@www.lcfelko.org
SUMMARY:2025 Ladies Christmas Tea
DESCRIPTION:Hello\, LCF Ladies.  We will be having a Ladies Christmas Tea Meeting on October 19th after each AM Service.  Please join us in making this year’s Ladies Christmas Tea a blessing to the Lord and our community… \nScreenshot
URL:https://www.lcfelko.org/event/2025-ladies-christmas-tea/
LOCATION:Lighthouse Christian Fellowship\, 2225 Industrial Way\, Elko\, NV\, 89801
END:VEVENT
BEGIN:VEVENT
DTSTART;TZID=America/Los_Angeles:20251019T083000
DTEND;TZID=America/Los_Angeles:20251019T100000
DTSTAMP:20260420T121612
CREATED:20250909T213056Z
LAST-MODIFIED:20250909T213056Z
UID:11090-1760862600-1760868000@www.lcfelko.org
SUMMARY:Early Service
DESCRIPTION:Our Sunday Early Service begins at 8:30am each week.  We systematically present and explain the Holy Scriptures\, Genesis through Revelation\, verse by verse.  If you have any questions about other services or studies\, please leave a message at 775-778-9502 and we will return your call. 
URL:https://www.lcfelko.org/event/early-service-344/
LOCATION:Lighthouse Christian Fellowship\, 2225 Industrial Way\, Elko\, NV\, 89801
END:VEVENT
BEGIN:VEVENT
DTSTART;TZID=America/Los_Angeles:20251019T103000
DTEND;TZID=America/Los_Angeles:20251019T120000
DTSTAMP:20260420T121612
CREATED:20250909T213642Z
LAST-MODIFIED:20250909T213642Z
UID:11104-1760869800-1760875200@www.lcfelko.org
SUMMARY:Service & Sun. School
DESCRIPTION:Our second Sunday morning Service begins at 10:30am each week.  This service includes Children’s Sunday School classes.  We systematically present and explain the Holy Scriptures\, Genesis through Revelation\, verse by verse.  If you have any questions about other services or studies\, please leave a message at 775-778-9502 and we will return your call.
URL:https://www.lcfelko.org/event/service-sun-school-335/
LOCATION:Lighthouse Christian Fellowship\, 2225 Industrial Way\, Elko\, NV\, 89801
END:VEVENT
END:VCALENDAR