BEGIN:VCALENDAR
VERSION:2.0
PRODID:-//Lighthouse Christian Fellowship - ECPv6.15.20//NONSGML v1.0//EN
CALSCALE:GREGORIAN
METHOD:PUBLISH
X-ORIGINAL-URL:https://www.lcfelko.org
X-WR-CALDESC:Events for Lighthouse Christian Fellowship
REFRESH-INTERVAL;VALUE=DURATION:PT1H
X-Robots-Tag:noindex
X-PUBLISHED-TTL:PT1H
BEGIN:VTIMEZONE
TZID:America/Los_Angeles
BEGIN:DAYLIGHT
TZOFFSETFROM:-0800
TZOFFSETTO:-0700
TZNAME:PDT
DTSTART:20230312T100000
END:DAYLIGHT
BEGIN:STANDARD
TZOFFSETFROM:-0700
TZOFFSETTO:-0800
TZNAME:PST
DTSTART:20231105T090000
END:STANDARD
BEGIN:DAYLIGHT
TZOFFSETFROM:-0800
TZOFFSETTO:-0700
TZNAME:PDT
DTSTART:20240310T100000
END:DAYLIGHT
BEGIN:STANDARD
TZOFFSETFROM:-0700
TZOFFSETTO:-0800
TZNAME:PST
DTSTART:20241103T090000
END:STANDARD
BEGIN:DAYLIGHT
TZOFFSETFROM:-0800
TZOFFSETTO:-0700
TZNAME:PDT
DTSTART:20250309T100000
END:DAYLIGHT
BEGIN:STANDARD
TZOFFSETFROM:-0700
TZOFFSETTO:-0800
TZNAME:PST
DTSTART:20251102T090000
END:STANDARD
END:VTIMEZONE
BEGIN:VEVENT
DTSTART;TZID=America/Los_Angeles:20241206T183000
DTEND;TZID=America/Los_Angeles:20241206T203000
DTSTAMP:20260422T015950
CREATED:20241114T234819Z
LAST-MODIFIED:20241114T234856Z
UID:10179-1733509800-1733517000@www.lcfelko.org
SUMMARY:25th Annual Ladies Christmas Tea
DESCRIPTION:Ladies; Ages 12 and Up; You are welcome to come join us for this year’s “Tis So Sweet To Trust In Jesus – Gingerbread Wishes” Christmas Tea.  Please come out and join us for some enjoyable Christmas Fun as we sing\, laugh\, fellowship\, and spend time in worship and the Word;  Rest assured\, you’ll be encouraged as you spend quality time with Sisters-in-Christ and celebrate Jesus! \nThis festive event will be from 6:30-8:30pm @Lighthouse Christian Fellowship\, which is located at 2225 Industrial Way\, Elko\, Nevada.  Please feel free to bring an appetizer\, finger food\, or dessert to share.  In order to focus on the encouragement of all the ladies who participate\, we will NOT have childcare available for this evening.  For more information\, please contact Becky or leave a message at 775-778-9502. \nScreenshot
URL:https://www.lcfelko.org/event/25th-annual-ladies-christmas-tea/
LOCATION:Lighthouse Christian Fellowship\, 2225 Industrial Way\, Elko\, NV\, 89801
END:VEVENT
END:VCALENDAR