BEGIN:VCALENDAR
VERSION:2.0
PRODID:-//Lighthouse Christian Fellowship - ECPv6.15.20//NONSGML v1.0//EN
CALSCALE:GREGORIAN
METHOD:PUBLISH
X-ORIGINAL-URL:https://www.lcfelko.org
X-WR-CALDESC:Events for Lighthouse Christian Fellowship
REFRESH-INTERVAL;VALUE=DURATION:PT1H
X-Robots-Tag:noindex
X-PUBLISHED-TTL:PT1H
BEGIN:VTIMEZONE
TZID:America/Los_Angeles
BEGIN:DAYLIGHT
TZOFFSETFROM:-0800
TZOFFSETTO:-0700
TZNAME:PDT
DTSTART:20170312T100000
END:DAYLIGHT
BEGIN:STANDARD
TZOFFSETFROM:-0700
TZOFFSETTO:-0800
TZNAME:PST
DTSTART:20171105T090000
END:STANDARD
BEGIN:DAYLIGHT
TZOFFSETFROM:-0800
TZOFFSETTO:-0700
TZNAME:PDT
DTSTART:20180311T100000
END:DAYLIGHT
BEGIN:STANDARD
TZOFFSETFROM:-0700
TZOFFSETTO:-0800
TZNAME:PST
DTSTART:20181104T090000
END:STANDARD
BEGIN:DAYLIGHT
TZOFFSETFROM:-0800
TZOFFSETTO:-0700
TZNAME:PDT
DTSTART:20190310T100000
END:DAYLIGHT
BEGIN:STANDARD
TZOFFSETFROM:-0700
TZOFFSETTO:-0800
TZNAME:PST
DTSTART:20191103T090000
END:STANDARD
END:VTIMEZONE
BEGIN:VEVENT
DTSTART;TZID=America/Los_Angeles:20181026T100000
DTEND;TZID=America/Los_Angeles:20181026T120000
DTSTAMP:20260420T121804
CREATED:20181025T235044Z
LAST-MODIFIED:20181025T235044Z
UID:3036-1540548000-1540555200@www.lcfelko.org
SUMMARY:Ladies Tea Work Day
DESCRIPTION:If you are willing and able\, please stop by LCF for a couple of hours\, beginning at 10:00am\, to make a bit more progress with this year’s Ladies Christmas Tea…
URL:https://www.lcfelko.org/event/ladies-tea-work-day/
LOCATION:Lighthouse Christian Fellowship\, 2225 Industrial Way\, Elko\, NV\, 89801
END:VEVENT
BEGIN:VEVENT
DTSTART;TZID=America/Los_Angeles:20181026T130000
DTEND;TZID=America/Los_Angeles:20181026T150000
DTSTAMP:20260420T121804
CREATED:20181019T000919Z
LAST-MODIFIED:20181019T000919Z
UID:3024-1540558800-1540566000@www.lcfelko.org
SUMMARY:Operation Christmas Child Packing Party
DESCRIPTION:We will meet at 1:00pm @ LCF.  You are welcome to join us as we use this opportunity to pack shoeboxes and see what is still needed to complete any shoeboxes before the November 11th collection due date…
URL:https://www.lcfelko.org/event/operation-christmas-child-packing-party/
LOCATION:Lighthouse Christian Fellowship\, 2225 Industrial Way\, Elko\, NV\, 89801
END:VEVENT
END:VCALENDAR