BEGIN:VCALENDAR
VERSION:2.0
PRODID:-//Lighthouse Christian Fellowship - ECPv6.15.20//NONSGML v1.0//EN
CALSCALE:GREGORIAN
METHOD:PUBLISH
X-WR-CALNAME:Lighthouse Christian Fellowship
X-ORIGINAL-URL:https://www.lcfelko.org
X-WR-CALDESC:Events for Lighthouse Christian Fellowship
REFRESH-INTERVAL;VALUE=DURATION:PT1H
X-Robots-Tag:noindex
X-PUBLISHED-TTL:PT1H
BEGIN:VTIMEZONE
TZID:America/Los_Angeles
BEGIN:DAYLIGHT
TZOFFSETFROM:-0800
TZOFFSETTO:-0700
TZNAME:PDT
DTSTART:20170312T100000
END:DAYLIGHT
BEGIN:STANDARD
TZOFFSETFROM:-0700
TZOFFSETTO:-0800
TZNAME:PST
DTSTART:20171105T090000
END:STANDARD
BEGIN:DAYLIGHT
TZOFFSETFROM:-0800
TZOFFSETTO:-0700
TZNAME:PDT
DTSTART:20180311T100000
END:DAYLIGHT
BEGIN:STANDARD
TZOFFSETFROM:-0700
TZOFFSETTO:-0800
TZNAME:PST
DTSTART:20181104T090000
END:STANDARD
BEGIN:DAYLIGHT
TZOFFSETFROM:-0800
TZOFFSETTO:-0700
TZNAME:PDT
DTSTART:20190310T100000
END:DAYLIGHT
BEGIN:STANDARD
TZOFFSETFROM:-0700
TZOFFSETTO:-0800
TZNAME:PST
DTSTART:20191103T090000
END:STANDARD
END:VTIMEZONE
BEGIN:VEVENT
DTSTART;TZID=America/Los_Angeles:20181014T083000
DTEND;TZID=America/Los_Angeles:20181014T100000
DTSTAMP:20260420T102428
CREATED:20181002T201550Z
LAST-MODIFIED:20181002T201550Z
UID:2980-1539505800-1539511200@www.lcfelko.org
SUMMARY:Early Service
DESCRIPTION:Verse-by-verse teaching through the Holy Bible (Genesis – Revelation). We are currently in the Book of Genesis…
URL:https://www.lcfelko.org/event/early-service-77/
LOCATION:Lighthouse Christian Fellowship\, 2225 Industrial Way\, Elko\, NV\, 89801
END:VEVENT
BEGIN:VEVENT
DTSTART;TZID=America/Los_Angeles:20181014T103000
DTEND;TZID=America/Los_Angeles:20181014T120000
DTSTAMP:20260420T102428
CREATED:20181002T201034Z
LAST-MODIFIED:20181002T201034Z
UID:2970-1539513000-1539518400@www.lcfelko.org
SUMMARY:Service & Sun. School
DESCRIPTION:Verse-by-verse teaching through the Holy Bible (Genesis – Revelation). We are currently in the Book of Genesis…
URL:https://www.lcfelko.org/event/service-sun-school-78/
LOCATION:Lighthouse Christian Fellowship\, 2225 Industrial Way\, Elko\, NV\, 89801
END:VEVENT
BEGIN:VEVENT
DTSTART;TZID=America/Los_Angeles:20181014T140000
DTEND;TZID=America/Los_Angeles:20181014T150000
DTSTAMP:20260420T102428
CREATED:20181002T200035Z
LAST-MODIFIED:20181002T200247Z
UID:2962-1539525600-1539529200@www.lcfelko.org
SUMMARY:Highland Ministry
DESCRIPTION:We will be doing the 2nd Sunday of this month\, in lieu of the 3rd Sunday of this month… \nwe spend quality time with our Senior community at Highland Village through hymns\, the Word of God\, and prayer from 2:00-3:00 pm. If you wish to join us during this time\, please check in at the Nurse’s Station or for more information about this ministry\, please contact Pastor Dan Romans.
URL:https://www.lcfelko.org/event/highland-ministry-62/
LOCATION:Rep-Highland Village\, 2850 Ruby Vista Drive\, Elko\, NV\, 89801\, United States
END:VEVENT
BEGIN:VEVENT
DTSTART;TZID=America/Los_Angeles:20181014T173000
DTEND;TZID=America/Los_Angeles:20181014T190000
DTSTAMP:20260420T102428
CREATED:20181002T194205Z
LAST-MODIFIED:20181002T194205Z
UID:2939-1539538200-1539543600@www.lcfelko.org
SUMMARY:Evening Study
DESCRIPTION:All are welcome to come to this study as we are led by the Holy Spirit to discover what our Redeemer is speaking to us through written Word. Expect to encounter His presence through prayer\, music\, and His word…This evening’s study will be in the Book of Philippians…
URL:https://www.lcfelko.org/event/evening-study-68/
LOCATION:Lighthouse Christian Fellowship\, 2225 Industrial Way\, Elko\, NV\, 89801
END:VEVENT
END:VCALENDAR