BEGIN:VCALENDAR
VERSION:2.0
PRODID:-//Lighthouse Christian Fellowship - ECPv6.15.20//NONSGML v1.0//EN
CALSCALE:GREGORIAN
METHOD:PUBLISH
X-ORIGINAL-URL:https://www.lcfelko.org
X-WR-CALDESC:Events for Lighthouse Christian Fellowship
REFRESH-INTERVAL;VALUE=DURATION:PT1H
X-Robots-Tag:noindex
X-PUBLISHED-TTL:PT1H
BEGIN:VTIMEZONE
TZID:America/Los_Angeles
BEGIN:DAYLIGHT
TZOFFSETFROM:-0800
TZOFFSETTO:-0700
TZNAME:PDT
DTSTART:20170312T100000
END:DAYLIGHT
BEGIN:STANDARD
TZOFFSETFROM:-0700
TZOFFSETTO:-0800
TZNAME:PST
DTSTART:20171105T090000
END:STANDARD
BEGIN:DAYLIGHT
TZOFFSETFROM:-0800
TZOFFSETTO:-0700
TZNAME:PDT
DTSTART:20180311T100000
END:DAYLIGHT
BEGIN:STANDARD
TZOFFSETFROM:-0700
TZOFFSETTO:-0800
TZNAME:PST
DTSTART:20181104T090000
END:STANDARD
BEGIN:DAYLIGHT
TZOFFSETFROM:-0800
TZOFFSETTO:-0700
TZNAME:PDT
DTSTART:20190310T100000
END:DAYLIGHT
BEGIN:STANDARD
TZOFFSETFROM:-0700
TZOFFSETTO:-0800
TZNAME:PST
DTSTART:20191103T090000
END:STANDARD
END:VTIMEZONE
BEGIN:VEVENT
DTSTART;TZID=America/Los_Angeles:20180930T083000
DTEND;TZID=America/Los_Angeles:20180930T100000
DTSTAMP:20260420T071634
CREATED:20180829T170028Z
LAST-MODIFIED:20181002T195603Z
UID:2912-1538296200-1538301600@www.lcfelko.org
SUMMARY:Early Service-MRM Presentation
DESCRIPTION:Verse-by-verse teaching through the Holy Bible (Genesis – Revelation). We are currently in the Book of Genesis…This morning we will be having a special presentation by Eric Johnson with Mormon Research Ministries.
URL:https://www.lcfelko.org/event/early-service-75/
LOCATION:Lighthouse Christian Fellowship\, 2225 Industrial Way\, Elko\, NV\, 89801
END:VEVENT
BEGIN:VEVENT
DTSTART;TZID=America/Los_Angeles:20180930T103000
DTEND;TZID=America/Los_Angeles:20180930T120000
DTSTAMP:20260420T071634
CREATED:20180829T165734Z
LAST-MODIFIED:20181002T195646Z
UID:2906-1538303400-1538308800@www.lcfelko.org
SUMMARY:Service & Sun. School-MRM Presentation
DESCRIPTION:Verse-by-verse teaching through the Holy Bible (Genesis – Revelation). We are currently in the Book of Genesis…This morning we will be having a special presentation by Eric Johnson with Mormon Research Ministries.
URL:https://www.lcfelko.org/event/service-sun-school-76/
LOCATION:Lighthouse Christian Fellowship\, 2225 Industrial Way\, Elko\, NV\, 89801
END:VEVENT
BEGIN:VEVENT
DTSTART;TZID=America/Los_Angeles:20180930T173000
DTEND;TZID=America/Los_Angeles:20180930T190000
DTSTAMP:20260420T071634
CREATED:20180829T165454Z
LAST-MODIFIED:20180829T165454Z
UID:2900-1538328600-1538334000@www.lcfelko.org
SUMMARY:Evening Study
DESCRIPTION:All are welcome to come to this study as we are led by the Holy Spirit to discover what our Redeemer is speaking to us through written Word. Expect to encounter His presence through prayer\, music\, and His word…
URL:https://www.lcfelko.org/event/evening-study-66/
LOCATION:Lighthouse Christian Fellowship\, 2225 Industrial Way\, Elko\, NV\, 89801
END:VEVENT
END:VCALENDAR