BEGIN:VCALENDAR
VERSION:2.0
PRODID:-//Lighthouse Christian Fellowship - ECPv6.15.20//NONSGML v1.0//EN
CALSCALE:GREGORIAN
METHOD:PUBLISH
X-WR-CALNAME:Lighthouse Christian Fellowship
X-ORIGINAL-URL:https://www.lcfelko.org
X-WR-CALDESC:Events for Lighthouse Christian Fellowship
REFRESH-INTERVAL;VALUE=DURATION:PT1H
X-Robots-Tag:noindex
X-PUBLISHED-TTL:PT1H
BEGIN:VTIMEZONE
TZID:America/Los_Angeles
BEGIN:DAYLIGHT
TZOFFSETFROM:-0800
TZOFFSETTO:-0700
TZNAME:PDT
DTSTART:20170312T100000
END:DAYLIGHT
BEGIN:STANDARD
TZOFFSETFROM:-0700
TZOFFSETTO:-0800
TZNAME:PST
DTSTART:20171105T090000
END:STANDARD
BEGIN:DAYLIGHT
TZOFFSETFROM:-0800
TZOFFSETTO:-0700
TZNAME:PDT
DTSTART:20180311T100000
END:DAYLIGHT
BEGIN:STANDARD
TZOFFSETFROM:-0700
TZOFFSETTO:-0800
TZNAME:PST
DTSTART:20181104T090000
END:STANDARD
BEGIN:DAYLIGHT
TZOFFSETFROM:-0800
TZOFFSETTO:-0700
TZNAME:PDT
DTSTART:20190310T100000
END:DAYLIGHT
BEGIN:STANDARD
TZOFFSETFROM:-0700
TZOFFSETTO:-0800
TZNAME:PST
DTSTART:20191103T090000
END:STANDARD
END:VTIMEZONE
BEGIN:VEVENT
DTSTART;TZID=America/Los_Angeles:20180914T180000
DTEND;TZID=America/Los_Angeles:20180916T110000
DTSTAMP:20260420T140731
CREATED:20180829T174450Z
LAST-MODIFIED:20180829T175344Z
UID:2928-1536948000-1537095600@www.lcfelko.org
SUMMARY:Men's Retreat @ Cowboy's Rest
DESCRIPTION:Go to http://www.cowboysrest.org for more information. \nFor a map…click on this link \nCost: $100.00 covers 2 nights lodging and 5 great meals! \nSpeaker: SCOTT PARKER(Founding retired pastor of Sparks Christian Fellowship) \nReserve your spot: \nOption 1: Register by mail& pay by check: click here \nOption 2: Register online& pay by credit card: click here \nOption 3: Register by email/phone(cowboysrest@hotmail.comor 775-934-9806) & pay by check upon arrival \nRetreat Begins: 6:00pm dinner– Friday\, September 14\, 2018 \nRetreat Ends: 11:00am– Sunday\, September 16\, 2018 \nWhat to Bring: Bible\, Sleeping Bag & Pillow\, Warm Clothing & Jacket\, Towel & Toiletries \nOptional Items: Shotgun & Target Loads\, Fishing Pole & Tackle\, Rifle & Ammo For Rifle Range \nWhat To Expect: Refreshing Time In The Word With Other Men\, Some Friendly Manly Competition (Trap Shooting\, Fishing\, Horseshoes\, Boating\, Mountain Biking\, Hiking\, Rifle Range\, Mini Golf\, Disc Golf).  If you are interested in playing Paintball\, please e-mail or call us…
URL:https://www.lcfelko.org/event/mens-retreat-cowboys-rest-2/
LOCATION:Cowboy’s Rest\, Nevada
END:VEVENT
BEGIN:VEVENT
DTSTART;TZID=America/Los_Angeles:20180916T083000
DTEND;TZID=America/Los_Angeles:20180916T100000
DTSTAMP:20260420T140731
CREATED:20180829T165913Z
LAST-MODIFIED:20180829T165913Z
UID:2908-1537086600-1537092000@www.lcfelko.org
SUMMARY:Early Service
DESCRIPTION:Verse-by-verse teaching through the Holy Bible (Genesis – Revelation). We are currently in the Book of Genesis…
URL:https://www.lcfelko.org/event/early-service-73/
LOCATION:Lighthouse Christian Fellowship\, 2225 Industrial Way\, Elko\, NV\, 89801
END:VEVENT
BEGIN:VEVENT
DTSTART;TZID=America/Los_Angeles:20180916T103000
DTEND;TZID=America/Los_Angeles:20180916T120000
DTSTAMP:20260420T140731
CREATED:20180829T165609Z
LAST-MODIFIED:20180829T165609Z
UID:2902-1537093800-1537099200@www.lcfelko.org
SUMMARY:Service & Sun. School
DESCRIPTION:Verse-by-verse teaching through the Holy Bible (Genesis – Revelation). We are currently in the Book of Genesis…
URL:https://www.lcfelko.org/event/service-sun-school-74/
LOCATION:Lighthouse Christian Fellowship\, 2225 Industrial Way\, Elko\, NV\, 89801
END:VEVENT
BEGIN:VEVENT
DTSTART;TZID=America/Los_Angeles:20180916T140000
DTEND;TZID=America/Los_Angeles:20180916T150000
DTSTAMP:20260420T140731
CREATED:20180829T165023Z
LAST-MODIFIED:20180829T165023Z
UID:2892-1537106400-1537110000@www.lcfelko.org
SUMMARY:Highland Ministry
DESCRIPTION:On the 1st\, 3rd\, and 4th Sunday of each month\, we spend quality time with our Senior community at Highland Village through hymns\, the Word of God\, and prayer from 2:00-3:00 pm. If you wish to join us during this time\, please check in at the Nurse’s Station or for more information about this ministry\, please contact Pastor Dan Romans.
URL:https://www.lcfelko.org/event/highland-ministry-59/
LOCATION:Rep-Highland Village\, 2850 Ruby Vista Drive\, Elko\, NV\, 89801\, United States
END:VEVENT
BEGIN:VEVENT
DTSTART;TZID=America/Los_Angeles:20180916T173000
DTEND;TZID=America/Los_Angeles:20180916T190000
DTSTAMP:20260420T140731
CREATED:20180829T165330Z
LAST-MODIFIED:20180829T165330Z
UID:2896-1537119000-1537124400@www.lcfelko.org
SUMMARY:Evening Study
DESCRIPTION:All are welcome to come to this study as we are led by the Holy Spirit to discover what our Redeemer is speaking to us through written Word. Expect to encounter His presence through prayer\, music\, and His word…
URL:https://www.lcfelko.org/event/evening-study-64/
LOCATION:Lighthouse Christian Fellowship\, 2225 Industrial Way\, Elko\, NV\, 89801
END:VEVENT
END:VCALENDAR