BEGIN:VCALENDAR
VERSION:2.0
PRODID:-//Lighthouse Christian Fellowship - ECPv6.15.20//NONSGML v1.0//EN
CALSCALE:GREGORIAN
METHOD:PUBLISH
X-ORIGINAL-URL:https://www.lcfelko.org
X-WR-CALDESC:Events for Lighthouse Christian Fellowship
REFRESH-INTERVAL;VALUE=DURATION:PT1H
X-Robots-Tag:noindex
X-PUBLISHED-TTL:PT1H
BEGIN:VTIMEZONE
TZID:America/Los_Angeles
BEGIN:DAYLIGHT
TZOFFSETFROM:-0800
TZOFFSETTO:-0700
TZNAME:PDT
DTSTART:20170312T100000
END:DAYLIGHT
BEGIN:STANDARD
TZOFFSETFROM:-0700
TZOFFSETTO:-0800
TZNAME:PST
DTSTART:20171105T090000
END:STANDARD
BEGIN:DAYLIGHT
TZOFFSETFROM:-0800
TZOFFSETTO:-0700
TZNAME:PDT
DTSTART:20180311T100000
END:DAYLIGHT
BEGIN:STANDARD
TZOFFSETFROM:-0700
TZOFFSETTO:-0800
TZNAME:PST
DTSTART:20181104T090000
END:STANDARD
BEGIN:DAYLIGHT
TZOFFSETFROM:-0800
TZOFFSETTO:-0700
TZNAME:PDT
DTSTART:20190310T100000
END:DAYLIGHT
BEGIN:STANDARD
TZOFFSETFROM:-0700
TZOFFSETTO:-0800
TZNAME:PST
DTSTART:20191103T090000
END:STANDARD
END:VTIMEZONE
BEGIN:VEVENT
DTSTART;TZID=America/Los_Angeles:20180819T083000
DTEND;TZID=America/Los_Angeles:20180819T100000
DTSTAMP:20260420T211754
CREATED:20180730T231139Z
LAST-MODIFIED:20180730T231139Z
UID:2798-1534667400-1534672800@www.lcfelko.org
SUMMARY:Early Service
DESCRIPTION:Verse-by-verse teaching through the Holy Bible (Genesis – Revelation). We are currently in the Book of Genesis…
URL:https://www.lcfelko.org/event/early-service-70/
LOCATION:Lighthouse Christian Fellowship\, 2225 Industrial Way\, Elko\, NV\, 89801
END:VEVENT
BEGIN:VEVENT
DTSTART;TZID=America/Los_Angeles:20180819T103000
DTEND;TZID=America/Los_Angeles:20180819T120000
DTSTAMP:20260420T211754
CREATED:20180730T230745Z
LAST-MODIFIED:20180730T230745Z
UID:2790-1534674600-1534680000@www.lcfelko.org
SUMMARY:Service & Sun. School
DESCRIPTION:Verse-by-verse teaching through the Holy Bible (Genesis – Revelation). We are currently in the Book of Genesis…
URL:https://www.lcfelko.org/event/service-sun-school-71/
LOCATION:Lighthouse Christian Fellowship\, 2225 Industrial Way\, Elko\, NV\, 89801
END:VEVENT
BEGIN:VEVENT
DTSTART;TZID=America/Los_Angeles:20180819T140000
DTEND;TZID=America/Los_Angeles:20180819T150000
DTSTAMP:20260420T211754
CREATED:20180730T230347Z
LAST-MODIFIED:20180730T230347Z
UID:2784-1534687200-1534690800@www.lcfelko.org
SUMMARY:Highland Ministry
DESCRIPTION:On the 1st\, 3rd\, and 4th Sunday of each month\, we spend quality time with our Senior community at Highland Village through hymns\, the Word of God\, and prayer from 2:00-3:00 pm. If you wish to join us during this time\, please check in at the Nurse’s Station or for more information about this ministry\, please contact Pastor Dan Romans.
URL:https://www.lcfelko.org/event/highland-ministry-57/
LOCATION:Rep-Highland Village\, 2850 Ruby Vista Drive\, Elko\, NV\, 89801\, United States
END:VEVENT
BEGIN:VEVENT
DTSTART;TZID=America/Los_Angeles:20180819T173000
DTEND;TZID=America/Los_Angeles:20180819T190000
DTSTAMP:20260420T211754
CREATED:20180703T235606Z
LAST-MODIFIED:20180802T164119Z
UID:2777-1534699800-1534705200@www.lcfelko.org
SUMMARY:Evening Study on Summer Break- will resume Sept. 16th
DESCRIPTION:The Sunday Evening Bible Study is taking a Summer Break and will resume on September 16th…
URL:https://www.lcfelko.org/event/evening-study-62/
LOCATION:NV
END:VEVENT
END:VCALENDAR