BEGIN:VCALENDAR
VERSION:2.0
PRODID:-//Lighthouse Christian Fellowship - ECPv6.15.20//NONSGML v1.0//EN
CALSCALE:GREGORIAN
METHOD:PUBLISH
X-WR-CALNAME:Lighthouse Christian Fellowship
X-ORIGINAL-URL:https://www.lcfelko.org
X-WR-CALDESC:Events for Lighthouse Christian Fellowship
REFRESH-INTERVAL;VALUE=DURATION:PT1H
X-Robots-Tag:noindex
X-PUBLISHED-TTL:PT1H
BEGIN:VTIMEZONE
TZID:America/Los_Angeles
BEGIN:DAYLIGHT
TZOFFSETFROM:-0800
TZOFFSETTO:-0700
TZNAME:PDT
DTSTART:20170312T100000
END:DAYLIGHT
BEGIN:STANDARD
TZOFFSETFROM:-0700
TZOFFSETTO:-0800
TZNAME:PST
DTSTART:20171105T090000
END:STANDARD
BEGIN:DAYLIGHT
TZOFFSETFROM:-0800
TZOFFSETTO:-0700
TZNAME:PDT
DTSTART:20180311T100000
END:DAYLIGHT
BEGIN:STANDARD
TZOFFSETFROM:-0700
TZOFFSETTO:-0800
TZNAME:PST
DTSTART:20181104T090000
END:STANDARD
BEGIN:DAYLIGHT
TZOFFSETFROM:-0800
TZOFFSETTO:-0700
TZNAME:PDT
DTSTART:20190310T100000
END:DAYLIGHT
BEGIN:STANDARD
TZOFFSETFROM:-0700
TZOFFSETTO:-0800
TZNAME:PST
DTSTART:20191103T090000
END:STANDARD
END:VTIMEZONE
BEGIN:VEVENT
DTSTART;TZID=America/Los_Angeles:20180812T083000
DTEND;TZID=America/Los_Angeles:20180812T100000
DTSTAMP:20260420T140739
CREATED:20180730T231059Z
LAST-MODIFIED:20180730T231059Z
UID:2796-1534062600-1534068000@www.lcfelko.org
SUMMARY:Early Service
DESCRIPTION:Verse-by-verse teaching through the Holy Bible (Genesis – Revelation). We are currently in the Book of Genesis…
URL:https://www.lcfelko.org/event/early-service-69/
LOCATION:Lighthouse Christian Fellowship\, 2225 Industrial Way\, Elko\, NV\, 89801
END:VEVENT
BEGIN:VEVENT
DTSTART;TZID=America/Los_Angeles:20180812T103000
DTEND;TZID=America/Los_Angeles:20180812T120000
DTSTAMP:20260420T140739
CREATED:20180730T230701Z
LAST-MODIFIED:20180730T230701Z
UID:2788-1534069800-1534075200@www.lcfelko.org
SUMMARY:Service & Sun. School
DESCRIPTION:Verse-by-verse teaching through the Holy Bible (Genesis – Revelation). We are currently in the Book of Genesis…
URL:https://www.lcfelko.org/event/service-sun-school-70/
LOCATION:Lighthouse Christian Fellowship\, 2225 Industrial Way\, Elko\, NV\, 89801
END:VEVENT
BEGIN:VEVENT
DTSTART;TZID=America/Los_Angeles:20180812T173000
DTEND;TZID=America/Los_Angeles:20180812T190000
DTSTAMP:20260420T140739
CREATED:20180703T235517Z
LAST-MODIFIED:20180802T164036Z
UID:2775-1534095000-1534100400@www.lcfelko.org
SUMMARY:Evening Study on Summer Break- will resume Sept. 16th
DESCRIPTION:The Sunday Evening Bible Study is taking a Summer Break and will resume on September 16th…
URL:https://www.lcfelko.org/event/evening-study-61/
LOCATION:NV
END:VEVENT
END:VCALENDAR