BEGIN:VCALENDAR
VERSION:2.0
PRODID:-//Lighthouse Christian Fellowship - ECPv6.15.20//NONSGML v1.0//EN
CALSCALE:GREGORIAN
METHOD:PUBLISH
X-ORIGINAL-URL:https://www.lcfelko.org
X-WR-CALDESC:Events for Lighthouse Christian Fellowship
REFRESH-INTERVAL;VALUE=DURATION:PT1H
X-Robots-Tag:noindex
X-PUBLISHED-TTL:PT1H
BEGIN:VTIMEZONE
TZID:America/Los_Angeles
BEGIN:DAYLIGHT
TZOFFSETFROM:-0800
TZOFFSETTO:-0700
TZNAME:PDT
DTSTART:20170312T100000
END:DAYLIGHT
BEGIN:STANDARD
TZOFFSETFROM:-0700
TZOFFSETTO:-0800
TZNAME:PST
DTSTART:20171105T090000
END:STANDARD
BEGIN:DAYLIGHT
TZOFFSETFROM:-0800
TZOFFSETTO:-0700
TZNAME:PDT
DTSTART:20180311T100000
END:DAYLIGHT
BEGIN:STANDARD
TZOFFSETFROM:-0700
TZOFFSETTO:-0800
TZNAME:PST
DTSTART:20181104T090000
END:STANDARD
BEGIN:DAYLIGHT
TZOFFSETFROM:-0800
TZOFFSETTO:-0700
TZNAME:PDT
DTSTART:20190310T100000
END:DAYLIGHT
BEGIN:STANDARD
TZOFFSETFROM:-0700
TZOFFSETTO:-0800
TZNAME:PST
DTSTART:20191103T090000
END:STANDARD
END:VTIMEZONE
BEGIN:VEVENT
DTSTART;VALUE=DATE:20180704
DTEND;VALUE=DATE:20180705
DTSTAMP:20260420T155043
CREATED:20180628T201137Z
LAST-MODIFIED:20180628T201137Z
UID:2766-1530662400-1530748799@www.lcfelko.org
SUMMARY:Independence Day
DESCRIPTION:Thank You Lord for giving every individual person the opportunity to know You through a personal relationship.  May each of us declare You as Lord and give You access to every part of our lives as You show us how to increasingly realize the plan and purpose that you have called and equipped us to embrace.  All praise is due Your name\, Jesus Christ – King of kings and Lord of lords!!!
URL:https://www.lcfelko.org/event/independence-day-2/
LOCATION:NV
END:VEVENT
BEGIN:VEVENT
DTSTART;TZID=America/Los_Angeles:20180704T180000
DTEND;TZID=America/Los_Angeles:20180704T200000
DTSTAMP:20260420T155043
CREATED:20180628T200440Z
LAST-MODIFIED:20180628T200440Z
UID:2764-1530727200-1530734400@www.lcfelko.org
SUMMARY:Supper & Studies Cancelled
DESCRIPTION:The Refresher Supper & Studies for Wednesday\, July 4th have been cancelled due to the Holiday and related observances.  We encourage you to celebrate the men and women who honored their Lord Jesus Christ through devoted service toward their God\, their country\, and their families.  May you too\, celebrate each person’s victory over the penalty of sin through a personal relationship with Jesus Christ and the ongoing blessings that come through that same ongoing\, spirit-led LIFE in Christ!!!
URL:https://www.lcfelko.org/event/supper-studies-cancelled/
LOCATION:NV
END:VEVENT
END:VCALENDAR