BEGIN:VCALENDAR
VERSION:2.0
PRODID:-//Lighthouse Christian Fellowship - ECPv6.15.20//NONSGML v1.0//EN
CALSCALE:GREGORIAN
METHOD:PUBLISH
X-ORIGINAL-URL:https://www.lcfelko.org
X-WR-CALDESC:Events for Lighthouse Christian Fellowship
REFRESH-INTERVAL;VALUE=DURATION:PT1H
X-Robots-Tag:noindex
X-PUBLISHED-TTL:PT1H
BEGIN:VTIMEZONE
TZID:America/Los_Angeles
BEGIN:DAYLIGHT
TZOFFSETFROM:-0800
TZOFFSETTO:-0700
TZNAME:PDT
DTSTART:20170312T100000
END:DAYLIGHT
BEGIN:STANDARD
TZOFFSETFROM:-0700
TZOFFSETTO:-0800
TZNAME:PST
DTSTART:20171105T090000
END:STANDARD
BEGIN:DAYLIGHT
TZOFFSETFROM:-0800
TZOFFSETTO:-0700
TZNAME:PDT
DTSTART:20180311T100000
END:DAYLIGHT
BEGIN:STANDARD
TZOFFSETFROM:-0700
TZOFFSETTO:-0800
TZNAME:PST
DTSTART:20181104T090000
END:STANDARD
BEGIN:DAYLIGHT
TZOFFSETFROM:-0800
TZOFFSETTO:-0700
TZNAME:PDT
DTSTART:20190310T100000
END:DAYLIGHT
BEGIN:STANDARD
TZOFFSETFROM:-0700
TZOFFSETTO:-0800
TZNAME:PST
DTSTART:20191103T090000
END:STANDARD
END:VTIMEZONE
BEGIN:VEVENT
DTSTART;TZID=America/Los_Angeles:20180621T090000
DTEND;TZID=America/Los_Angeles:20180621T114500
DTSTAMP:20260420T085303
CREATED:20180607T170305Z
LAST-MODIFIED:20180607T170305Z
UID:2627-1529571600-1529581500@www.lcfelko.org
SUMMARY:Son World Adventure Park VBS
DESCRIPTION:Son World Adventure Park V.B.S. will happen each day\, 9:00-11:45am\, from Monday\, June 18th through Friday\, June 22nd.  Please\, come at 8:45am on Monday\, June 18th to help with registration; there is no costs for the children who participate in V.B.S. \nChildren\, ages 4-12\, will have a great time singing\, watching skits\, creating crafts\, and playing games.  But most importantly\, they will discover how to make right choices to live Godly lives!  Everyone is invited for the Closing Program/Open House on Friday\, June 22nd at 7:00pm; a musical event that is fun for the whole family and friends!
URL:https://www.lcfelko.org/event/son-world-adventure-park-vbs-4/
LOCATION:Lighthouse Christian Fellowship\, 2225 Industrial Way\, Elko\, NV\, 89801
END:VEVENT
END:VCALENDAR