BEGIN:VCALENDAR
VERSION:2.0
PRODID:-//Lighthouse Christian Fellowship - ECPv6.15.20//NONSGML v1.0//EN
CALSCALE:GREGORIAN
METHOD:PUBLISH
X-ORIGINAL-URL:https://www.lcfelko.org
X-WR-CALDESC:Events for Lighthouse Christian Fellowship
REFRESH-INTERVAL;VALUE=DURATION:PT1H
X-Robots-Tag:noindex
X-PUBLISHED-TTL:PT1H
BEGIN:VTIMEZONE
TZID:America/Los_Angeles
BEGIN:DAYLIGHT
TZOFFSETFROM:-0800
TZOFFSETTO:-0700
TZNAME:PDT
DTSTART:20170312T100000
END:DAYLIGHT
BEGIN:STANDARD
TZOFFSETFROM:-0700
TZOFFSETTO:-0800
TZNAME:PST
DTSTART:20171105T090000
END:STANDARD
BEGIN:DAYLIGHT
TZOFFSETFROM:-0800
TZOFFSETTO:-0700
TZNAME:PDT
DTSTART:20180311T100000
END:DAYLIGHT
BEGIN:STANDARD
TZOFFSETFROM:-0700
TZOFFSETTO:-0800
TZNAME:PST
DTSTART:20181104T090000
END:STANDARD
BEGIN:DAYLIGHT
TZOFFSETFROM:-0800
TZOFFSETTO:-0700
TZNAME:PDT
DTSTART:20190310T100000
END:DAYLIGHT
BEGIN:STANDARD
TZOFFSETFROM:-0700
TZOFFSETTO:-0800
TZNAME:PST
DTSTART:20191103T090000
END:STANDARD
END:VTIMEZONE
BEGIN:VEVENT
DTSTART;TZID=America/Los_Angeles:20180408T083000
DTEND;TZID=America/Los_Angeles:20180408T100000
DTSTAMP:20260421T151857
CREATED:20180308T001447Z
LAST-MODIFIED:20180308T001855Z
UID:2452-1523176200-1523181600@www.lcfelko.org
SUMMARY:Dr. Kindell Presentation
DESCRIPTION:Dr. Thomas Kindell\, a Creation Scientist\, will be at both AM services and will share Biblical insights concerning the field of Bio-Mimicry.  Scientists are increasingly seeking to mimic design features seen in the world of biology\, and have found that many designs credited to “man’s invention” were actually already in use and are superior to human inventions.  Ironically\, even though human scientists marvel at the superior designs seen in living creatures and actively seek to copy them as best they can\, they rarely give credit to the Great Innovator and “Patent Holder” who first conceived and created them – Jesus Christ!
URL:https://www.lcfelko.org/event/dr-kindell-presentation/
LOCATION:Lighthouse Christian Fellowship\, 2225 Industrial Way\, Elko\, NV\, 89801
END:VEVENT
BEGIN:VEVENT
DTSTART;TZID=America/Los_Angeles:20180408T103000
DTEND;TZID=America/Los_Angeles:20180408T120000
DTSTAMP:20260421T151857
CREATED:20180308T001923Z
LAST-MODIFIED:20180308T001923Z
UID:2456-1523183400-1523188800@www.lcfelko.org
SUMMARY:Dr. Kindell Presentation
DESCRIPTION:Dr. Thomas Kindell\, a Creation Scientist\, will be at both AM services and will share Biblical insights concerning the field of Bio-Mimicry.  Scientists are increasingly seeking to mimic design features seen in the world of biology\, and have found that many designs credited to “man’s invention” were actually already in use and are superior to human inventions.  Ironically\, even though human scientists marvel at the superior designs seen in living creatures and actively seek to copy them as best they can\, they rarely give credit to the Great Innovator and “Patent Holder” who first conceived and created them – Jesus Christ!
URL:https://www.lcfelko.org/event/dr-kindell-presentation-2/
LOCATION:Lighthouse Christian Fellowship\, 2225 Industrial Way\, Elko\, NV\, 89801
END:VEVENT
BEGIN:VEVENT
DTSTART;TZID=America/Los_Angeles:20180408T173000
DTEND;TZID=America/Los_Angeles:20180408T190000
DTSTAMP:20260421T151857
CREATED:20180307T233516Z
LAST-MODIFIED:20180307T233516Z
UID:2408-1523208600-1523214000@www.lcfelko.org
SUMMARY:Evening Study
DESCRIPTION:All are welcome to come to this study as we are led by the Holy Spirit to discover what our Redeemer is speaking to us through written Word. Expect to encounter His presence through prayer\, music\, and His word…
URL:https://www.lcfelko.org/event/evening-study-44/
LOCATION:Lighthouse Christian Fellowship\, 2225 Industrial Way\, Elko\, NV\, 89801
END:VEVENT
END:VCALENDAR