BEGIN:VCALENDAR
VERSION:2.0
PRODID:-//Lighthouse Christian Fellowship - ECPv6.15.20//NONSGML v1.0//EN
CALSCALE:GREGORIAN
METHOD:PUBLISH
X-ORIGINAL-URL:https://www.lcfelko.org
X-WR-CALDESC:Events for Lighthouse Christian Fellowship
REFRESH-INTERVAL;VALUE=DURATION:PT1H
X-Robots-Tag:noindex
X-PUBLISHED-TTL:PT1H
BEGIN:VTIMEZONE
TZID:America/Los_Angeles
BEGIN:DAYLIGHT
TZOFFSETFROM:-0800
TZOFFSETTO:-0700
TZNAME:PDT
DTSTART:20170312T100000
END:DAYLIGHT
BEGIN:STANDARD
TZOFFSETFROM:-0700
TZOFFSETTO:-0800
TZNAME:PST
DTSTART:20171105T090000
END:STANDARD
BEGIN:DAYLIGHT
TZOFFSETFROM:-0800
TZOFFSETTO:-0700
TZNAME:PDT
DTSTART:20180311T100000
END:DAYLIGHT
BEGIN:STANDARD
TZOFFSETFROM:-0700
TZOFFSETTO:-0800
TZNAME:PST
DTSTART:20181104T090000
END:STANDARD
BEGIN:DAYLIGHT
TZOFFSETFROM:-0800
TZOFFSETTO:-0700
TZNAME:PDT
DTSTART:20190310T100000
END:DAYLIGHT
BEGIN:STANDARD
TZOFFSETFROM:-0700
TZOFFSETTO:-0800
TZNAME:PST
DTSTART:20191103T090000
END:STANDARD
END:VTIMEZONE
BEGIN:VEVENT
DTSTART;TZID=America/Los_Angeles:20180325T083000
DTEND;TZID=America/Los_Angeles:20180325T100000
DTSTAMP:20260421T013916
CREATED:20180215T203514Z
LAST-MODIFIED:20180313T183653Z
UID:2349-1521966600-1521972000@www.lcfelko.org
SUMMARY:Palm Sunday Early Service
DESCRIPTION:Palm Sunday Service\, March 25th\, 8:30am & 10:30am services: Reflecting on the Triumphal Entry into Passion Week…\n\n\nFor more information\, please call 778-9502.
URL:https://www.lcfelko.org/event/palm-sunday-service/
LOCATION:Lighthouse Christian Fellowship\, 2225 Industrial Way\, Elko\, NV\, 89801
END:VEVENT
BEGIN:VEVENT
DTSTART;TZID=America/Los_Angeles:20180325T103000
DTEND;TZID=America/Los_Angeles:20180325T120000
DTSTAMP:20260421T013916
CREATED:20180307T234717Z
LAST-MODIFIED:20190128T192000Z
UID:2430-1521973800-1521979200@www.lcfelko.org
SUMMARY:Palm Sunday Service & Sun. School
DESCRIPTION:Palm Sunday Service\, March 25th\, 8:30am & 10:30am services: Reflecting on the Triumphal Entry into Passion Week…\n\nFor more information\, please call 778-9502.
URL:https://www.lcfelko.org/event/palm-sunday-service-sun-school/
LOCATION:Lighthouse Christian Fellowship\, 2225 Industrial Way\, Elko\, NV\, 89801
END:VEVENT
BEGIN:VEVENT
DTSTART;TZID=America/Los_Angeles:20180325T140000
DTEND;TZID=America/Los_Angeles:20180325T150000
DTSTAMP:20260421T013916
CREATED:20180307T233924Z
LAST-MODIFIED:20180307T233924Z
UID:2418-1521986400-1521990000@www.lcfelko.org
SUMMARY:Highland Ministry
DESCRIPTION:On the 1st\, 3rd\, and 4th Sunday of each month\, we spend quality time with our Senior community at Highland Village through hymns\, the Word of God\, and prayer from 2:00-3:00 pm. If you wish to join us during this time\, please check in at the Nurse’s Station or for more information about this ministry\, please contact Pastor Dan Romans.
URL:https://www.lcfelko.org/event/highland-ministry-41/
LOCATION:Rep-Highland Village\, 2850 Ruby Vista Drive\, Elko\, NV\, 89801\, United States
END:VEVENT
BEGIN:VEVENT
DTSTART;TZID=America/Los_Angeles:20180325T173000
DTEND;TZID=America/Los_Angeles:20180325T190000
DTSTAMP:20260421T013916
CREATED:20180307T233124Z
LAST-MODIFIED:20180307T233124Z
UID:2404-1521999000-1522004400@www.lcfelko.org
SUMMARY:Evening Study
DESCRIPTION:All are welcome to come to this study as we are led by the Holy Spirit to discover what our Redeemer is speaking to us through written Word. Expect to encounter His presence through prayer\, music\, and His word…
URL:https://www.lcfelko.org/event/evening-study-43/
LOCATION:Lighthouse Christian Fellowship\, 2225 Industrial Way\, Elko\, NV\, 89801
END:VEVENT
END:VCALENDAR