BEGIN:VCALENDAR
VERSION:2.0
PRODID:-//Lighthouse Christian Fellowship - ECPv6.15.20//NONSGML v1.0//EN
CALSCALE:GREGORIAN
METHOD:PUBLISH
X-ORIGINAL-URL:https://www.lcfelko.org
X-WR-CALDESC:Events for Lighthouse Christian Fellowship
REFRESH-INTERVAL;VALUE=DURATION:PT1H
X-Robots-Tag:noindex
X-PUBLISHED-TTL:PT1H
BEGIN:VTIMEZONE
TZID:America/Los_Angeles
BEGIN:DAYLIGHT
TZOFFSETFROM:-0800
TZOFFSETTO:-0700
TZNAME:PDT
DTSTART:20170312T100000
END:DAYLIGHT
BEGIN:STANDARD
TZOFFSETFROM:-0700
TZOFFSETTO:-0800
TZNAME:PST
DTSTART:20171105T090000
END:STANDARD
BEGIN:DAYLIGHT
TZOFFSETFROM:-0800
TZOFFSETTO:-0700
TZNAME:PDT
DTSTART:20180311T100000
END:DAYLIGHT
BEGIN:STANDARD
TZOFFSETFROM:-0700
TZOFFSETTO:-0800
TZNAME:PST
DTSTART:20181104T090000
END:STANDARD
BEGIN:DAYLIGHT
TZOFFSETFROM:-0800
TZOFFSETTO:-0700
TZNAME:PDT
DTSTART:20190310T100000
END:DAYLIGHT
BEGIN:STANDARD
TZOFFSETFROM:-0700
TZOFFSETTO:-0800
TZNAME:PST
DTSTART:20191103T090000
END:STANDARD
END:VTIMEZONE
BEGIN:VEVENT
DTSTART;VALUE=DATE:20180311
DTEND;VALUE=DATE:20180312
DTSTAMP:20260421T013918
CREATED:20180215T204049Z
LAST-MODIFIED:20180215T204202Z
UID:2357-1520726400-1520812799@www.lcfelko.org
SUMMARY:Daylight Savings Not Observed
DESCRIPTION:As we “spring forward” during this season\, in an effort to be sensitive to the needs of those with children\, we will not be observing the time change until after the second morning service at 12-noon…
URL:https://www.lcfelko.org/event/daylight-savings-not-observed/
LOCATION:Lighthouse Christian Fellowship\, 2225 Industrial Way\, Elko\, NV\, 89801
END:VEVENT
BEGIN:VEVENT
DTSTART;TZID=America/Los_Angeles:20180311T083000
DTEND;TZID=America/Los_Angeles:20180311T100000
DTSTAMP:20260421T013918
CREATED:20180307T235451Z
LAST-MODIFIED:20180307T235451Z
UID:2442-1520757000-1520762400@www.lcfelko.org
SUMMARY:Early Service
DESCRIPTION:Verse-by-verse teaching through the Holy Bible (Genesis – Revelation). We are currently in the Book of Revelation…
URL:https://www.lcfelko.org/event/early-service-50/
LOCATION:Lighthouse Christian Fellowship\, 2225 Industrial Way\, Elko\, NV\, 89801
END:VEVENT
BEGIN:VEVENT
DTSTART;TZID=America/Los_Angeles:20180311T103000
DTEND;TZID=America/Los_Angeles:20180311T120000
DTSTAMP:20260421T013918
CREATED:20180307T235014Z
LAST-MODIFIED:20180307T235014Z
UID:2432-1520764200-1520769600@www.lcfelko.org
SUMMARY:Service & Sun. School
DESCRIPTION:Verse-by-verse teaching through the Holy Bible (Genesis – Revelation). We are currently in the Book of Revelation…
URL:https://www.lcfelko.org/event/service-sun-school-51/
LOCATION:Lighthouse Christian Fellowship\, 2225 Industrial Way\, Elko\, NV\, 89801
END:VEVENT
BEGIN:VEVENT
DTSTART;TZID=America/Los_Angeles:20180311T173000
DTEND;TZID=America/Los_Angeles:20180311T190000
DTSTAMP:20260421T013918
CREATED:20180307T233032Z
LAST-MODIFIED:20180307T233032Z
UID:2400-1520789400-1520794800@www.lcfelko.org
SUMMARY:Evening Study
DESCRIPTION:All are welcome to come to this study as we are led by the Holy Spirit to discover what our Redeemer is speaking to us through written Word. Expect to encounter His presence through prayer\, music\, and His word…
URL:https://www.lcfelko.org/event/evening-study-41/
LOCATION:Lighthouse Christian Fellowship\, 2225 Industrial Way\, Elko\, NV\, 89801
END:VEVENT
END:VCALENDAR