BEGIN:VCALENDAR
VERSION:2.0
PRODID:-//Lighthouse Christian Fellowship - ECPv6.15.20//NONSGML v1.0//EN
CALSCALE:GREGORIAN
METHOD:PUBLISH
X-ORIGINAL-URL:https://www.lcfelko.org
X-WR-CALDESC:Events for Lighthouse Christian Fellowship
REFRESH-INTERVAL;VALUE=DURATION:PT1H
X-Robots-Tag:noindex
X-PUBLISHED-TTL:PT1H
BEGIN:VTIMEZONE
TZID:America/Los_Angeles
BEGIN:DAYLIGHT
TZOFFSETFROM:-0800
TZOFFSETTO:-0700
TZNAME:PDT
DTSTART:20170312T100000
END:DAYLIGHT
BEGIN:STANDARD
TZOFFSETFROM:-0700
TZOFFSETTO:-0800
TZNAME:PST
DTSTART:20171105T090000
END:STANDARD
BEGIN:DAYLIGHT
TZOFFSETFROM:-0800
TZOFFSETTO:-0700
TZNAME:PDT
DTSTART:20180311T100000
END:DAYLIGHT
BEGIN:STANDARD
TZOFFSETFROM:-0700
TZOFFSETTO:-0800
TZNAME:PST
DTSTART:20181104T090000
END:STANDARD
BEGIN:DAYLIGHT
TZOFFSETFROM:-0800
TZOFFSETTO:-0700
TZNAME:PDT
DTSTART:20190310T100000
END:DAYLIGHT
BEGIN:STANDARD
TZOFFSETFROM:-0700
TZOFFSETTO:-0800
TZNAME:PST
DTSTART:20191103T090000
END:STANDARD
END:VTIMEZONE
BEGIN:VEVENT
DTSTART;TZID=America/Los_Angeles:20180310T070000
DTEND;TZID=America/Los_Angeles:20180310T090000
DTSTAMP:20260421T013917
CREATED:20180307T231439Z
LAST-MODIFIED:20180307T231439Z
UID:2381-1520665200-1520672400@www.lcfelko.org
SUMMARY:Men's Prayer & Breakfast
DESCRIPTION:The men and friends of Lighthouse Christian Fellowship meet at the church to pray about the issues of life and praise our Lord for all that He is doing. After a time of prayer & praise the men will go to breakfast at a local restaurant.
URL:https://www.lcfelko.org/event/mens-prayer-breakfast-57/
LOCATION:Lighthouse Christian Fellowship\, 2225 Industrial Way\, Elko\, NV\, 89801
END:VEVENT
BEGIN:VEVENT
DTSTART;TZID=America/Los_Angeles:20180310T093000
DTEND;TZID=America/Los_Angeles:20180310T113000
DTSTAMP:20260421T013917
CREATED:20180104T200010Z
LAST-MODIFIED:20180104T200010Z
UID:2239-1520674200-1520681400@www.lcfelko.org
SUMMARY:Ladies 2nd Saturdays
DESCRIPTION:Come on over\, pour yourself a cup of goodness\, enjoy brunch\, and get comfy. We’ll spend quality time in Fellowship\, Worship\, and the Word! 9:30-11:30am @ 1554 Stitzel Rd.; For More Information\, please contact Becky or Maxine. (Dates include Feb. 10th\, March 10th\, April 14th)
URL:https://www.lcfelko.org/event/ladies-2nd-saturdays-5/
LOCATION:M&M’s Home\, 1554 Stitzel Rd.\, Elko\, NV\, 89801
END:VEVENT
BEGIN:VEVENT
DTSTART;TZID=America/Los_Angeles:20180310T180000
DTEND;TZID=America/Los_Angeles:20180310T200000
DTSTAMP:20260421T013917
CREATED:20180307T232814Z
LAST-MODIFIED:20180307T232827Z
UID:2397-1520704800-1520712000@www.lcfelko.org
SUMMARY:Kent McAdoo Wild Game Dinner
DESCRIPTION:Kent McAdoo Memorial Wild Game & Fish Feed (Men & Boys): This event will begin at 6:00pm at the Western Folklife Center in Elko (501 Railroad Street).  There is a $10 suggested donation at the door. The guest speaker will be Army Chaplain\, Jeremiah Catlin. If you wish to help provide wild game or fish for this event\, please contact Sam Crouch or the office manager at 738-6840.
URL:https://www.lcfelko.org/event/kent-mcadoo-wild-game-dinner/
LOCATION:Rep-Western Folklife Center\, 501 Railroad Street\, Elko\, NV\, 89801\, United States
END:VEVENT
END:VCALENDAR