BEGIN:VCALENDAR
VERSION:2.0
PRODID:-//Lighthouse Christian Fellowship - ECPv6.15.20//NONSGML v1.0//EN
CALSCALE:GREGORIAN
METHOD:PUBLISH
X-WR-CALNAME:Lighthouse Christian Fellowship
X-ORIGINAL-URL:https://www.lcfelko.org
X-WR-CALDESC:Events for Lighthouse Christian Fellowship
REFRESH-INTERVAL;VALUE=DURATION:PT1H
X-Robots-Tag:noindex
X-PUBLISHED-TTL:PT1H
BEGIN:VTIMEZONE
TZID:America/Los_Angeles
BEGIN:DAYLIGHT
TZOFFSETFROM:-0800
TZOFFSETTO:-0700
TZNAME:PDT
DTSTART:20170312T100000
END:DAYLIGHT
BEGIN:STANDARD
TZOFFSETFROM:-0700
TZOFFSETTO:-0800
TZNAME:PST
DTSTART:20171105T090000
END:STANDARD
BEGIN:DAYLIGHT
TZOFFSETFROM:-0800
TZOFFSETTO:-0700
TZNAME:PDT
DTSTART:20180311T100000
END:DAYLIGHT
BEGIN:STANDARD
TZOFFSETFROM:-0700
TZOFFSETTO:-0800
TZNAME:PST
DTSTART:20181104T090000
END:STANDARD
BEGIN:DAYLIGHT
TZOFFSETFROM:-0800
TZOFFSETTO:-0700
TZNAME:PDT
DTSTART:20190310T100000
END:DAYLIGHT
BEGIN:STANDARD
TZOFFSETFROM:-0700
TZOFFSETTO:-0800
TZNAME:PST
DTSTART:20191103T090000
END:STANDARD
END:VTIMEZONE
BEGIN:VEVENT
DTSTART;TZID=America/Los_Angeles:20180210T070000
DTEND;TZID=America/Los_Angeles:20180210T090000
DTSTAMP:20260421T190740
CREATED:20180203T014925Z
LAST-MODIFIED:20180203T014925Z
UID:2306-1518246000-1518253200@www.lcfelko.org
SUMMARY:Men's Prayer & Breakfast
DESCRIPTION:The men and friends of Lighthouse Christian Fellowship meet at the church to pray about the issues of life and praise our Lord for all that He is doing. After a time of prayer & praise the men will go to breakfast at a local restaurant.
URL:https://www.lcfelko.org/event/mens-prayer-breakfast-53/
LOCATION:Lighthouse Christian Fellowship\, 2225 Industrial Way\, Elko\, NV\, 89801
END:VEVENT
BEGIN:VEVENT
DTSTART;TZID=America/Los_Angeles:20180210T093000
DTEND;TZID=America/Los_Angeles:20180210T113000
DTSTAMP:20260421T190740
CREATED:20180104T195843Z
LAST-MODIFIED:20180104T195843Z
UID:2237-1518255000-1518262200@www.lcfelko.org
SUMMARY:Ladies 2nd Saturdays
DESCRIPTION:Come on over\, pour yourself a cup of goodness\, enjoy brunch\, and get comfy. We’ll spend quality time in Fellowship\, Worship\, and the Word! 9:30-11:30am @ 1554 Stitzel Rd.; For More Information\, please contact Becky or Maxine. (Dates include Feb. 10th\, March 10th\, April 14th)
URL:https://www.lcfelko.org/event/ladies-2nd-saturdays-4/
LOCATION:M&M’s Home\, 1554 Stitzel Rd.\, Elko\, NV\, 89801
END:VEVENT
END:VCALENDAR