BEGIN:VCALENDAR
VERSION:2.0
PRODID:-//Lighthouse Christian Fellowship - ECPv6.15.20//NONSGML v1.0//EN
CALSCALE:GREGORIAN
METHOD:PUBLISH
X-WR-CALNAME:Lighthouse Christian Fellowship
X-ORIGINAL-URL:https://www.lcfelko.org
X-WR-CALDESC:Events for Lighthouse Christian Fellowship
REFRESH-INTERVAL;VALUE=DURATION:PT1H
X-Robots-Tag:noindex
X-PUBLISHED-TTL:PT1H
BEGIN:VTIMEZONE
TZID:America/Los_Angeles
BEGIN:DAYLIGHT
TZOFFSETFROM:-0800
TZOFFSETTO:-0700
TZNAME:PDT
DTSTART:20160313T100000
END:DAYLIGHT
BEGIN:STANDARD
TZOFFSETFROM:-0700
TZOFFSETTO:-0800
TZNAME:PST
DTSTART:20161106T090000
END:STANDARD
BEGIN:DAYLIGHT
TZOFFSETFROM:-0800
TZOFFSETTO:-0700
TZNAME:PDT
DTSTART:20170312T100000
END:DAYLIGHT
BEGIN:STANDARD
TZOFFSETFROM:-0700
TZOFFSETTO:-0800
TZNAME:PST
DTSTART:20171105T090000
END:STANDARD
BEGIN:DAYLIGHT
TZOFFSETFROM:-0800
TZOFFSETTO:-0700
TZNAME:PDT
DTSTART:20180311T100000
END:DAYLIGHT
BEGIN:STANDARD
TZOFFSETFROM:-0700
TZOFFSETTO:-0800
TZNAME:PST
DTSTART:20181104T090000
END:STANDARD
END:VTIMEZONE
BEGIN:VEVENT
DTSTART;TZID=America/Los_Angeles:20171224T103000
DTEND;TZID=America/Los_Angeles:20171224T120000
DTSTAMP:20260421T064406
CREATED:20171129T002250Z
LAST-MODIFIED:20171129T002403Z
UID:2110-1514111400-1514116800@www.lcfelko.org
SUMMARY:Combined Service & Sun. School
DESCRIPTION:We will be joining together on this day-before-Christmas in prayer\, worship\, and the study of God’s word at 10:30am.  Please note that we will not be having the 8:30am service on this day.  This will enable the whole congregation\, family\, and friends to unite in One Spirit and enjoy some quality Koinonia!  We look forward to seeing you @ Lighthouse Christian Fellowship!!
URL:https://www.lcfelko.org/event/combined-service-small-childrens-sun-school/
LOCATION:Lighthouse Christian Fellowship\, 2225 Industrial Way\, Elko\, NV\, 89801
END:VEVENT
BEGIN:VEVENT
DTSTART;TZID=America/Los_Angeles:20171224T140000
DTEND;TZID=America/Los_Angeles:20171224T150000
DTSTAMP:20260421T064406
CREATED:20171129T002957Z
LAST-MODIFIED:20171129T002957Z
UID:2121-1514124000-1514127600@www.lcfelko.org
SUMMARY:Highland Ministry
DESCRIPTION:On the 1st\, 3rd\, and 4th Sunday of each month\, we spend quality time with our Senior community at Highland Village through hymns\, the Word of God\, and prayer from 2:00-3:00 pm. If you wish to join us during this time\, please check in at the Nurse’s Station or for more information about this ministry\, please contact Josh Park or Pastor Dan Romans.
URL:https://www.lcfelko.org/event/highland-ministry-32/
LOCATION:Rep-Highland Village\, 2850 Ruby Vista Drive\, Elko\, NV\, 89801\, United States
END:VEVENT
BEGIN:VEVENT
DTSTART;TZID=America/Los_Angeles:20171224T190000
DTEND;TZID=America/Los_Angeles:20171224T203000
DTSTAMP:20260421T064406
CREATED:20171129T002459Z
LAST-MODIFIED:20171129T002723Z
UID:2114-1514142000-1514147400@www.lcfelko.org
SUMMARY:Candlelight Service
DESCRIPTION:Let’s gather for an evening of blessing as we celebrate the “Light that has come into the world”- Children are welcome to come in their Pajamas…
URL:https://www.lcfelko.org/event/candlelight-service/
LOCATION:Lighthouse Christian Fellowship\, 2225 Industrial Way\, Elko\, NV\, 89801
END:VEVENT
END:VCALENDAR