BEGIN:VCALENDAR
VERSION:2.0
PRODID:-//Lighthouse Christian Fellowship - ECPv6.15.20//NONSGML v1.0//EN
CALSCALE:GREGORIAN
METHOD:PUBLISH
X-WR-CALNAME:Lighthouse Christian Fellowship
X-ORIGINAL-URL:https://www.lcfelko.org
X-WR-CALDESC:Events for Lighthouse Christian Fellowship
REFRESH-INTERVAL;VALUE=DURATION:PT1H
X-Robots-Tag:noindex
X-PUBLISHED-TTL:PT1H
BEGIN:VTIMEZONE
TZID:America/Los_Angeles
BEGIN:DAYLIGHT
TZOFFSETFROM:-0800
TZOFFSETTO:-0700
TZNAME:PDT
DTSTART:20160313T100000
END:DAYLIGHT
BEGIN:STANDARD
TZOFFSETFROM:-0700
TZOFFSETTO:-0800
TZNAME:PST
DTSTART:20161106T090000
END:STANDARD
BEGIN:DAYLIGHT
TZOFFSETFROM:-0800
TZOFFSETTO:-0700
TZNAME:PDT
DTSTART:20170312T100000
END:DAYLIGHT
BEGIN:STANDARD
TZOFFSETFROM:-0700
TZOFFSETTO:-0800
TZNAME:PST
DTSTART:20171105T090000
END:STANDARD
BEGIN:DAYLIGHT
TZOFFSETFROM:-0800
TZOFFSETTO:-0700
TZNAME:PDT
DTSTART:20180311T100000
END:DAYLIGHT
BEGIN:STANDARD
TZOFFSETFROM:-0700
TZOFFSETTO:-0800
TZNAME:PST
DTSTART:20181104T090000
END:STANDARD
END:VTIMEZONE
BEGIN:VEVENT
DTSTART;TZID=America/Los_Angeles:20171210T083000
DTEND;TZID=America/Los_Angeles:20171210T100000
DTSTAMP:20260421T064407
CREATED:20171129T003404Z
LAST-MODIFIED:20171129T003404Z
UID:2133-1512894600-1512900000@www.lcfelko.org
SUMMARY:Early Service
DESCRIPTION:Verse-by-verse teaching through the Holy Bible (Genesis – Revelation). We are currently in the Book of Revelation…
URL:https://www.lcfelko.org/event/early-service-38/
LOCATION:Lighthouse Christian Fellowship\, 2225 Industrial Way\, Elko\, NV\, 89801
END:VEVENT
BEGIN:VEVENT
DTSTART;TZID=America/Los_Angeles:20171210T103000
DTEND;TZID=America/Los_Angeles:20171210T120000
DTSTAMP:20260421T064407
CREATED:20171129T003122Z
LAST-MODIFIED:20171129T003122Z
UID:2125-1512901800-1512907200@www.lcfelko.org
SUMMARY:Service & Sun. School
DESCRIPTION:Verse-by-verse teaching through the Holy Bible (Genesis – Revelation). We are currently in the Book of Revelation…
URL:https://www.lcfelko.org/event/service-sun-school-39/
LOCATION:Lighthouse Christian Fellowship\, 2225 Industrial Way\, Elko\, NV\, 89801
END:VEVENT
BEGIN:VEVENT
DTSTART;TZID=America/Los_Angeles:20171210T173000
DTEND;TZID=America/Los_Angeles:20171210T190000
DTSTAMP:20260421T064407
CREATED:20171012T215208Z
LAST-MODIFIED:20171012T221005Z
UID:1968-1512927000-1512932400@www.lcfelko.org
SUMMARY:PM Study cancelled
DESCRIPTION:The 5:30-7:00 PM Bible Study for this evening has been cancelled.  This study will resume on January 7\, 2018.
URL:https://www.lcfelko.org/event/pm-study-cancelled-11/
LOCATION:NV
END:VEVENT
END:VCALENDAR