BEGIN:VCALENDAR
VERSION:2.0
PRODID:-//Lighthouse Christian Fellowship - ECPv6.15.20//NONSGML v1.0//EN
CALSCALE:GREGORIAN
METHOD:PUBLISH
X-WR-CALNAME:Lighthouse Christian Fellowship
X-ORIGINAL-URL:https://www.lcfelko.org
X-WR-CALDESC:Events for Lighthouse Christian Fellowship
REFRESH-INTERVAL;VALUE=DURATION:PT1H
X-Robots-Tag:noindex
X-PUBLISHED-TTL:PT1H
BEGIN:VTIMEZONE
TZID:America/Los_Angeles
BEGIN:DAYLIGHT
TZOFFSETFROM:-0800
TZOFFSETTO:-0700
TZNAME:PDT
DTSTART:20160313T100000
END:DAYLIGHT
BEGIN:STANDARD
TZOFFSETFROM:-0700
TZOFFSETTO:-0800
TZNAME:PST
DTSTART:20161106T090000
END:STANDARD
BEGIN:DAYLIGHT
TZOFFSETFROM:-0800
TZOFFSETTO:-0700
TZNAME:PDT
DTSTART:20170312T100000
END:DAYLIGHT
BEGIN:STANDARD
TZOFFSETFROM:-0700
TZOFFSETTO:-0800
TZNAME:PST
DTSTART:20171105T090000
END:STANDARD
BEGIN:DAYLIGHT
TZOFFSETFROM:-0800
TZOFFSETTO:-0700
TZNAME:PDT
DTSTART:20180311T100000
END:DAYLIGHT
BEGIN:STANDARD
TZOFFSETFROM:-0700
TZOFFSETTO:-0800
TZNAME:PST
DTSTART:20181104T090000
END:STANDARD
END:VTIMEZONE
BEGIN:VEVENT
DTSTART;TZID=America/Los_Angeles:20171129T100000
DTEND;TZID=America/Los_Angeles:20171129T120000
DTSTAMP:20260421T183224
CREATED:20171128T165933Z
LAST-MODIFIED:20171128T165933Z
UID:2108-1511949600-1511956800@www.lcfelko.org
SUMMARY:Ladies Tea Set-Up & Decoration
DESCRIPTION:You are welcome to join with us @ LCF at 10:00am to put the finishing touches on this year’s upcoming Ladies Tea.
URL:https://www.lcfelko.org/event/ladies-tea-set-decoration/
LOCATION:Lighthouse Christian Fellowship\, 2225 Industrial Way\, Elko\, NV\, 89801
END:VEVENT
BEGIN:VEVENT
DTSTART;TZID=America/Los_Angeles:20171129T180000
DTEND;TZID=America/Los_Angeles:20171129T200000
DTSTAMP:20260421T183224
CREATED:20171012T215749Z
LAST-MODIFIED:20171128T170121Z
UID:1982-1511978400-1511985600@www.lcfelko.org
SUMMARY:Midweek Study cancelled
DESCRIPTION:The Wednesday Night Bible Study for this week has been cancelled for this evening.
URL:https://www.lcfelko.org/event/midweek-study-cancelled-6/
LOCATION:NV
END:VEVENT
END:VCALENDAR