BEGIN:VCALENDAR
VERSION:2.0
PRODID:-//Lighthouse Christian Fellowship - ECPv6.15.20//NONSGML v1.0//EN
CALSCALE:GREGORIAN
METHOD:PUBLISH
X-ORIGINAL-URL:https://www.lcfelko.org
X-WR-CALDESC:Events for Lighthouse Christian Fellowship
REFRESH-INTERVAL;VALUE=DURATION:PT1H
X-Robots-Tag:noindex
X-PUBLISHED-TTL:PT1H
BEGIN:VTIMEZONE
TZID:America/Los_Angeles
BEGIN:DAYLIGHT
TZOFFSETFROM:-0800
TZOFFSETTO:-0700
TZNAME:PDT
DTSTART:20160313T100000
END:DAYLIGHT
BEGIN:STANDARD
TZOFFSETFROM:-0700
TZOFFSETTO:-0800
TZNAME:PST
DTSTART:20161106T090000
END:STANDARD
BEGIN:DAYLIGHT
TZOFFSETFROM:-0800
TZOFFSETTO:-0700
TZNAME:PDT
DTSTART:20170312T100000
END:DAYLIGHT
BEGIN:STANDARD
TZOFFSETFROM:-0700
TZOFFSETTO:-0800
TZNAME:PST
DTSTART:20171105T090000
END:STANDARD
BEGIN:DAYLIGHT
TZOFFSETFROM:-0800
TZOFFSETTO:-0700
TZNAME:PDT
DTSTART:20180311T100000
END:DAYLIGHT
BEGIN:STANDARD
TZOFFSETFROM:-0700
TZOFFSETTO:-0800
TZNAME:PST
DTSTART:20181104T090000
END:STANDARD
END:VTIMEZONE
BEGIN:VEVENT
DTSTART;TZID=America/Los_Angeles:20171029T083000
DTEND;TZID=America/Los_Angeles:20171029T100000
DTSTAMP:20260421T145714
CREATED:20170925T213547Z
LAST-MODIFIED:20170925T213547Z
UID:1936-1509265800-1509271200@www.lcfelko.org
SUMMARY:Early Service
DESCRIPTION:Verse-by-verse teaching through the Holy Bible (Genesis – Revelation). We are currently in the Book of Revelation…
URL:https://www.lcfelko.org/event/early-service-32/
LOCATION:Lighthouse Christian Fellowship\, 2225 Industrial Way\, Elko\, NV\, 89801
END:VEVENT
BEGIN:VEVENT
DTSTART;TZID=America/Los_Angeles:20171029T103000
DTEND;TZID=America/Los_Angeles:20171029T120000
DTSTAMP:20260421T145714
CREATED:20170925T213119Z
LAST-MODIFIED:20170925T213558Z
UID:1926-1509273000-1509278400@www.lcfelko.org
SUMMARY:Service & Sun. School
DESCRIPTION:Verse-by-verse teaching through the Holy Bible (Genesis – Revelation). We are currently in the Book of Revelation…
URL:https://www.lcfelko.org/event/service-sun-school-33/
LOCATION:Lighthouse Christian Fellowship\, 2225 Industrial Way\, Elko\, NV\, 89801
END:VEVENT
BEGIN:VEVENT
DTSTART;TZID=America/Los_Angeles:20171029T173000
DTEND;TZID=America/Los_Angeles:20171029T190000
DTSTAMP:20260421T145714
CREATED:20170925T212500Z
LAST-MODIFIED:20170925T212500Z
UID:1910-1509298200-1509303600@www.lcfelko.org
SUMMARY:Evening Study
DESCRIPTION:All are welcome to come to this study as we are led by the Holy Spirit to discover what our Redeemer is speaking to us through written Word. Expect to encounter His presence through prayer\, music\, and His word…  We are currently in the Book of Joshua.
URL:https://www.lcfelko.org/event/evening-study-31/
LOCATION:Lighthouse Christian Fellowship\, 2225 Industrial Way\, Elko\, NV\, 89801
END:VEVENT
END:VCALENDAR