BEGIN:VCALENDAR
VERSION:2.0
PRODID:-//Lighthouse Christian Fellowship - ECPv6.15.20//NONSGML v1.0//EN
CALSCALE:GREGORIAN
METHOD:PUBLISH
X-WR-CALNAME:Lighthouse Christian Fellowship
X-ORIGINAL-URL:https://www.lcfelko.org
X-WR-CALDESC:Events for Lighthouse Christian Fellowship
REFRESH-INTERVAL;VALUE=DURATION:PT1H
X-Robots-Tag:noindex
X-PUBLISHED-TTL:PT1H
BEGIN:VTIMEZONE
TZID:America/Los_Angeles
BEGIN:DAYLIGHT
TZOFFSETFROM:-0800
TZOFFSETTO:-0700
TZNAME:PDT
DTSTART:20160313T100000
END:DAYLIGHT
BEGIN:STANDARD
TZOFFSETFROM:-0700
TZOFFSETTO:-0800
TZNAME:PST
DTSTART:20161106T090000
END:STANDARD
BEGIN:DAYLIGHT
TZOFFSETFROM:-0800
TZOFFSETTO:-0700
TZNAME:PDT
DTSTART:20170312T100000
END:DAYLIGHT
BEGIN:STANDARD
TZOFFSETFROM:-0700
TZOFFSETTO:-0800
TZNAME:PST
DTSTART:20171105T090000
END:STANDARD
BEGIN:DAYLIGHT
TZOFFSETFROM:-0800
TZOFFSETTO:-0700
TZNAME:PDT
DTSTART:20180311T100000
END:DAYLIGHT
BEGIN:STANDARD
TZOFFSETFROM:-0700
TZOFFSETTO:-0800
TZNAME:PST
DTSTART:20181104T090000
END:STANDARD
END:VTIMEZONE
BEGIN:VEVENT
DTSTART;TZID=America/Los_Angeles:20170915T183000
DTEND;TZID=America/Los_Angeles:20170917T110000
DTSTAMP:20260421T183220
CREATED:20170314T185724Z
LAST-MODIFIED:20170314T185724Z
UID:737-1505500200-1505646000@www.lcfelko.org
SUMMARY:Men's Retreat @ Cowboy's Rest
DESCRIPTION:Go to www.cowboysrest.org for more information.\nfor a map…go to cowboysrest.org…click on ABOUT US then click LOCATION… \nCost: $90 covers 2 nights lodging and 5 great meals! \nReserve your spot:\noption 1: register by mail & pay by check: click here\noption 2: register online & pay by credit card: click here\noption 3: register by email/phone (cowboysrest@hotmail.com\nor 775.934.9806) & pay by check upon arrival \nRetreat Begins: 6:30pm dinner Friday\nRetreat Ends: 11:00am Sunday\nWhat to Bring: Bible\, sleeping bag & pillow\, warm clothing & jacket\, towel & toiletries\, shotgun & target loads\, fishing pole & tackle\nWhat to Expect: Refreshing time in the Word with other men\, some friendly manly competition (trap shooting\, fishing\, horseshoes\, etc) and delicious game meals!\nSpeaker: ??????
URL:https://www.lcfelko.org/event/mens-retreat-cowboys-rest/
LOCATION:NV
END:VEVENT
BEGIN:VEVENT
DTSTART;TZID=America/Los_Angeles:20170917T083000
DTEND;TZID=America/Los_Angeles:20170917T100000
DTSTAMP:20260421T183220
CREATED:20170821T220725Z
LAST-MODIFIED:20170821T220725Z
UID:1839-1505637000-1505642400@www.lcfelko.org
SUMMARY:Early Service
DESCRIPTION:Verse-by-verse teaching through the Holy Bible (Genesis – Revelation). We are currently in the Book of Revelation…
URL:https://www.lcfelko.org/event/early-service-26/
LOCATION:Lighthouse Christian Fellowship\, 2225 Industrial Way\, Elko\, NV\, 89801
END:VEVENT
BEGIN:VEVENT
DTSTART;TZID=America/Los_Angeles:20170917T103000
DTEND;TZID=America/Los_Angeles:20170917T120000
DTSTAMP:20260421T183220
CREATED:20170821T220612Z
LAST-MODIFIED:20170821T220612Z
UID:1835-1505644200-1505649600@www.lcfelko.org
SUMMARY:Service & Sun. School
DESCRIPTION:Verse-by-verse teaching through the Holy Bible (Genesis – Revelation). We are currently in the Book of Revelation…
URL:https://www.lcfelko.org/event/service-sun-school-27/
LOCATION:Lighthouse Christian Fellowship\, 2225 Industrial Way\, Elko\, NV\, 89801
END:VEVENT
BEGIN:VEVENT
DTSTART;TZID=America/Los_Angeles:20170917T140000
DTEND;TZID=America/Los_Angeles:20170917T150000
DTSTAMP:20260421T183220
CREATED:20170821T220408Z
LAST-MODIFIED:20170821T220408Z
UID:1831-1505656800-1505660400@www.lcfelko.org
SUMMARY:Highland Ministry
DESCRIPTION:On the 1st\, 3rd\, and 4th Sunday of each month\, we spend quality time with our Senior community at Highland Village through hymns\, the Word of God\, and prayer from 2:00-3:00 pm. If you wish to join us during this time\, please check in at the Nurse’s Station or for more information about this ministry\, please contact Josh Park or Pastor Dan Romans.
URL:https://www.lcfelko.org/event/highland-ministry-22/
LOCATION:Rep-Highland Village\, 2850 Ruby Vista Drive\, Elko\, NV\, 89801\, United States
END:VEVENT
BEGIN:VEVENT
DTSTART;TZID=America/Los_Angeles:20170917T173000
DTEND;TZID=America/Los_Angeles:20170917T190000
DTSTAMP:20260421T183220
CREATED:20170821T220140Z
LAST-MODIFIED:20170821T220140Z
UID:1827-1505669400-1505674800@www.lcfelko.org
SUMMARY:Evening Study
DESCRIPTION:All are welcome to come to this study as we are led by the Holy Spirit to discover what our Redeemer is speaking to us through written Word. Expect to encounter His presence through prayer\, music\, and His word…  We are currently in the Book of Joshua.
URL:https://www.lcfelko.org/event/evening-study-25/
LOCATION:Lighthouse Christian Fellowship\, 2225 Industrial Way\, Elko\, NV\, 89801
END:VEVENT
END:VCALENDAR