BEGIN:VCALENDAR
VERSION:2.0
PRODID:-//Lighthouse Christian Fellowship - ECPv6.15.20//NONSGML v1.0//EN
CALSCALE:GREGORIAN
METHOD:PUBLISH
X-WR-CALNAME:Lighthouse Christian Fellowship
X-ORIGINAL-URL:https://www.lcfelko.org
X-WR-CALDESC:Events for Lighthouse Christian Fellowship
REFRESH-INTERVAL;VALUE=DURATION:PT1H
X-Robots-Tag:noindex
X-PUBLISHED-TTL:PT1H
BEGIN:VTIMEZONE
TZID:America/Los_Angeles
BEGIN:DAYLIGHT
TZOFFSETFROM:-0800
TZOFFSETTO:-0700
TZNAME:PDT
DTSTART:20160313T100000
END:DAYLIGHT
BEGIN:STANDARD
TZOFFSETFROM:-0700
TZOFFSETTO:-0800
TZNAME:PST
DTSTART:20161106T090000
END:STANDARD
BEGIN:DAYLIGHT
TZOFFSETFROM:-0800
TZOFFSETTO:-0700
TZNAME:PDT
DTSTART:20170312T100000
END:DAYLIGHT
BEGIN:STANDARD
TZOFFSETFROM:-0700
TZOFFSETTO:-0800
TZNAME:PST
DTSTART:20171105T090000
END:STANDARD
BEGIN:DAYLIGHT
TZOFFSETFROM:-0800
TZOFFSETTO:-0700
TZNAME:PDT
DTSTART:20180311T100000
END:DAYLIGHT
BEGIN:STANDARD
TZOFFSETFROM:-0700
TZOFFSETTO:-0800
TZNAME:PST
DTSTART:20181104T090000
END:STANDARD
END:VTIMEZONE
BEGIN:VEVENT
DTSTART;VALUE=DATE:20170910
DTEND;VALUE=DATE:20170911
DTSTAMP:20260421T183221
CREATED:20170725T205007Z
LAST-MODIFIED:20170817T001825Z
UID:1714-1505001600-1505087999@www.lcfelko.org
SUMMARY:Combined Service\, Baptisms & Picnic in Lamoille Canyon
DESCRIPTION:Our regularly scheduled morning services will be combined into one Morning Service beginning at 11:00am at the Powerhouse Group Picnic Area in Lamoille Canyon.  Plan for an awesome day of Praise to our King\, Quality Fellowship\, and Scrumptious Food!  If you are bringing food\, please be aware that there is no electricity available.  It would be best to prepare your food prior to coming and then “package” it in a cooler to maintain its temperature\, whether hot or cold… We look forward to seeing you there!
URL:https://www.lcfelko.org/event/combine-service-baptisms-picnic/
LOCATION:NV
END:VEVENT
BEGIN:VEVENT
DTSTART;TZID=America/Los_Angeles:20170910T173000
DTEND;TZID=America/Los_Angeles:20170910T190000
DTSTAMP:20260421T183221
CREATED:20170821T220036Z
LAST-MODIFIED:20170821T220036Z
UID:1824-1505064600-1505070000@www.lcfelko.org
SUMMARY:Evening Study is cancelled
DESCRIPTION:This regularly scheduled Sunday Night Bible Study has been cancelled due to the all-day LCF Church-Experience at the Powerhouse Picnic Area in Lamoille Canyon…
URL:https://www.lcfelko.org/event/evening-study-cancelled/
LOCATION:NV
END:VEVENT
END:VCALENDAR