BEGIN:VCALENDAR
VERSION:2.0
PRODID:-//Lighthouse Christian Fellowship - ECPv6.15.20//NONSGML v1.0//EN
CALSCALE:GREGORIAN
METHOD:PUBLISH
X-WR-CALNAME:Lighthouse Christian Fellowship
X-ORIGINAL-URL:https://www.lcfelko.org
X-WR-CALDESC:Events for Lighthouse Christian Fellowship
REFRESH-INTERVAL;VALUE=DURATION:PT1H
X-Robots-Tag:noindex
X-PUBLISHED-TTL:PT1H
BEGIN:VTIMEZONE
TZID:America/Los_Angeles
BEGIN:DAYLIGHT
TZOFFSETFROM:-0800
TZOFFSETTO:-0700
TZNAME:PDT
DTSTART:20160313T100000
END:DAYLIGHT
BEGIN:STANDARD
TZOFFSETFROM:-0700
TZOFFSETTO:-0800
TZNAME:PST
DTSTART:20161106T090000
END:STANDARD
BEGIN:DAYLIGHT
TZOFFSETFROM:-0800
TZOFFSETTO:-0700
TZNAME:PDT
DTSTART:20170312T100000
END:DAYLIGHT
BEGIN:STANDARD
TZOFFSETFROM:-0700
TZOFFSETTO:-0800
TZNAME:PST
DTSTART:20171105T090000
END:STANDARD
BEGIN:DAYLIGHT
TZOFFSETFROM:-0800
TZOFFSETTO:-0700
TZNAME:PDT
DTSTART:20180311T100000
END:DAYLIGHT
BEGIN:STANDARD
TZOFFSETFROM:-0700
TZOFFSETTO:-0800
TZNAME:PST
DTSTART:20181104T090000
END:STANDARD
END:VTIMEZONE
BEGIN:VEVENT
DTSTART;TZID=America/Los_Angeles:20170625T083000
DTEND;TZID=America/Los_Angeles:20170625T100000
DTSTAMP:20260421T220856
CREATED:20170601T191833Z
LAST-MODIFIED:20170614T200752Z
UID:1294-1498379400-1498384800@www.lcfelko.org
SUMMARY:Early Service
DESCRIPTION:All are welcome to join us as we come together and praise our Gracious Lord Jesus!  We will have worship and the Word presented by Dennis Agajanian at both the 8:30am-10:00am service and the 10:30am-12:00pm service.  Come on over and hear what our Lord has been doing in and through Dennis as he continues to travel the world…
URL:https://www.lcfelko.org/event/early-service-15/
LOCATION:Lighthouse Christian Fellowship\, 2225 Industrial Way\, Elko\, NV\, 89801
END:VEVENT
BEGIN:VEVENT
DTSTART;TZID=America/Los_Angeles:20170625T103000
DTEND;TZID=America/Los_Angeles:20170625T120000
DTSTAMP:20260421T220856
CREATED:20170601T191410Z
LAST-MODIFIED:20170614T200659Z
UID:1286-1498386600-1498392000@www.lcfelko.org
SUMMARY:Service & Sun. School
DESCRIPTION:All are welcome to join us as we come together and praise our Gracious Lord Jesus!  We will have worship and the Word presented by Dennis Agajanian at both the 8:30am-10:00am service and the 10:30am-12:00pm service.  Come on over and hear what our Lord has been doing in and through Dennis as he continues to travel the world…
URL:https://www.lcfelko.org/event/service-sun-school-17/
LOCATION:Lighthouse Christian Fellowship\, 2225 Industrial Way\, Elko\, NV\, 89801
END:VEVENT
BEGIN:VEVENT
DTSTART;TZID=America/Los_Angeles:20170625T140000
DTEND;TZID=America/Los_Angeles:20170625T150000
DTSTAMP:20260421T220856
CREATED:20170601T190805Z
LAST-MODIFIED:20170601T190805Z
UID:1276-1498399200-1498402800@www.lcfelko.org
SUMMARY:Highland Ministry
DESCRIPTION:On the 1st\, 3rd\, and 4th Sunday of each month\, we spend quality time with our Senior community at Highland Village through hymns\, the Word of God\, and prayer from 2:00-3:00 pm. If you wish to join us during this time\, please check in at the Nurse’s Station or for more information about this ministry\, please contact Josh Park or Pastor Dan Romans.
URL:https://www.lcfelko.org/event/highland-ministry-14/
LOCATION:Rep-Highland Village\, 2850 Ruby Vista Drive\, Elko\, NV\, 89801\, United States
END:VEVENT
BEGIN:VEVENT
DTSTART;TZID=America/Los_Angeles:20170625T173000
DTEND;TZID=America/Los_Angeles:20170625T190000
DTSTAMP:20260421T220856
CREATED:20170601T190507Z
LAST-MODIFIED:20170625T220800Z
UID:1270-1498411800-1498417200@www.lcfelko.org
SUMMARY:PM Study Cancelled
DESCRIPTION:The Bible Study for this evening has been cancelled…
URL:https://www.lcfelko.org/event/evening-study-14/
LOCATION:NV
END:VEVENT
END:VCALENDAR