BEGIN:VCALENDAR
VERSION:2.0
PRODID:-//Lighthouse Christian Fellowship - ECPv6.15.20//NONSGML v1.0//EN
CALSCALE:GREGORIAN
METHOD:PUBLISH
X-ORIGINAL-URL:https://www.lcfelko.org
X-WR-CALDESC:Events for Lighthouse Christian Fellowship
REFRESH-INTERVAL;VALUE=DURATION:PT1H
X-Robots-Tag:noindex
X-PUBLISHED-TTL:PT1H
BEGIN:VTIMEZONE
TZID:America/Los_Angeles
BEGIN:DAYLIGHT
TZOFFSETFROM:-0800
TZOFFSETTO:-0700
TZNAME:PDT
DTSTART:20160313T100000
END:DAYLIGHT
BEGIN:STANDARD
TZOFFSETFROM:-0700
TZOFFSETTO:-0800
TZNAME:PST
DTSTART:20161106T090000
END:STANDARD
BEGIN:DAYLIGHT
TZOFFSETFROM:-0800
TZOFFSETTO:-0700
TZNAME:PDT
DTSTART:20170312T100000
END:DAYLIGHT
BEGIN:STANDARD
TZOFFSETFROM:-0700
TZOFFSETTO:-0800
TZNAME:PST
DTSTART:20171105T090000
END:STANDARD
BEGIN:DAYLIGHT
TZOFFSETFROM:-0800
TZOFFSETTO:-0700
TZNAME:PDT
DTSTART:20180311T100000
END:DAYLIGHT
BEGIN:STANDARD
TZOFFSETFROM:-0700
TZOFFSETTO:-0800
TZNAME:PST
DTSTART:20181104T090000
END:STANDARD
END:VTIMEZONE
BEGIN:VEVENT
DTSTART;TZID=America/Los_Angeles:20170423T083000
DTEND;TZID=America/Los_Angeles:20170423T100000
DTSTAMP:20260422T050812
CREATED:20170214T204834Z
LAST-MODIFIED:20170214T205051Z
UID:570-1492936200-1492941600@www.lcfelko.org
SUMMARY:Creation Service
DESCRIPTION:This morning at both the 8:30am and 10:30am services\, we will have a special speaker\, Creation Scientist- Dr. Thomas Kindell.  Both presentations deal with the scientific field of biomimetics or biomimicry. Scientists and engineers are increasingly seeking to mimic or copy design features seen in the world of biology. They have found that many designs that had previously been thought to have been invented by man were actually already thought of and utilized in the world of biology. Many such designs are superior to human inventions and are actively copied as much as possible. Often\, the copies man makes are only able to obtain a fraction of the efficiency seen in the biological designs. Ironically\, even though human scientists marvel at the superior designs seen in living creatures and actively seek to copy them as best they can\, they rarely give credit to the Great Innovator and “Patent Holder” who first conceived and created them – Jesus Christ!
URL:https://www.lcfelko.org/event/special-early-service/
LOCATION:Lighthouse Christian Fellowship\, 2225 Industrial Way\, Elko\, NV\, 89801
END:VEVENT
BEGIN:VEVENT
DTSTART;TZID=America/Los_Angeles:20170423T103000
DTEND;TZID=America/Los_Angeles:20170423T120000
DTSTAMP:20260422T050812
CREATED:20170214T205143Z
LAST-MODIFIED:20170214T205256Z
UID:574-1492943400-1492948800@www.lcfelko.org
SUMMARY:Creation Service & Sun. School
DESCRIPTION:This morning at both the 8:30am and 10:30am services\, we will have a special speaker\, Creation Scientist- Dr. Thomas Kindell. Both presentations deal with the scientific field of biomimetics or biomimicry. Scientists and engineers are increasingly seeking to mimic or copy design features seen in the world of biology. They have found that many designs that had previously been thought to have been invented by man were actually already thought of and utilized in the world of biology. Many such designs are superior to human inventions and are actively copied as much as possible. Often\, the copies man makes are only able to obtain a fraction of the efficiency seen in the biological designs. Ironically\, even though human scientists marvel at the superior designs seen in living creatures and actively seek to copy them as best they can\, they rarely give credit to the Great Innovator and “Patent Holder” who first conceived and created them – Jesus Christ!
URL:https://www.lcfelko.org/event/creation-service-sun-school/
LOCATION:Lighthouse Christian Fellowship\, 2225 Industrial Way\, Elko\, NV\, 89801
END:VEVENT
BEGIN:VEVENT
DTSTART;TZID=America/Los_Angeles:20170423T140000
DTEND;TZID=America/Los_Angeles:20170423T150000
DTSTAMP:20260422T050812
CREATED:20170314T185309Z
LAST-MODIFIED:20170314T185309Z
UID:735-1492956000-1492959600@www.lcfelko.org
SUMMARY:Highland Ministry
DESCRIPTION:On the 1st\, 3rd\, and 4th Sunday of each month\, we spend quality time with our Senior community at Highland Village through hymns\, the Word of God\, and prayer from 2:00-3:00 pm. If you wish to join us during this time\, please check in at the Nurse’s Station or for more information about this ministry\, please contact Josh Park or Pastor Dan Romans.
URL:https://www.lcfelko.org/event/highland-ministry-8/
LOCATION:Rep-Highland Village\, 2850 Ruby Vista Drive\, Elko\, NV\, 89801\, United States
END:VEVENT
BEGIN:VEVENT
DTSTART;TZID=America/Los_Angeles:20170423T173000
DTEND;TZID=America/Los_Angeles:20170423T190000
DTSTAMP:20260422T050812
CREATED:20170421T211233Z
LAST-MODIFIED:20170421T211233Z
UID:980-1492968600-1492974000@www.lcfelko.org
SUMMARY:PM Study Cancelled
DESCRIPTION:The study for this evening has been temporarily cancelled…
URL:https://www.lcfelko.org/event/pm-study-cancelled-5/
LOCATION:Lighthouse Christian Fellowship\, 2225 Industrial Way\, Elko\, NV\, 89801
END:VEVENT
END:VCALENDAR