BEGIN:VCALENDAR
VERSION:2.0
PRODID:-//Lighthouse Christian Fellowship - ECPv6.15.20//NONSGML v1.0//EN
CALSCALE:GREGORIAN
METHOD:PUBLISH
X-WR-CALNAME:Lighthouse Christian Fellowship
X-ORIGINAL-URL:https://www.lcfelko.org
X-WR-CALDESC:Events for Lighthouse Christian Fellowship
REFRESH-INTERVAL;VALUE=DURATION:PT1H
X-Robots-Tag:noindex
X-PUBLISHED-TTL:PT1H
BEGIN:VTIMEZONE
TZID:America/Los_Angeles
BEGIN:DAYLIGHT
TZOFFSETFROM:-0800
TZOFFSETTO:-0700
TZNAME:PDT
DTSTART:20160313T100000
END:DAYLIGHT
BEGIN:STANDARD
TZOFFSETFROM:-0700
TZOFFSETTO:-0800
TZNAME:PST
DTSTART:20161106T090000
END:STANDARD
BEGIN:DAYLIGHT
TZOFFSETFROM:-0800
TZOFFSETTO:-0700
TZNAME:PDT
DTSTART:20170312T100000
END:DAYLIGHT
BEGIN:STANDARD
TZOFFSETFROM:-0700
TZOFFSETTO:-0800
TZNAME:PST
DTSTART:20171105T090000
END:STANDARD
BEGIN:DAYLIGHT
TZOFFSETFROM:-0800
TZOFFSETTO:-0700
TZNAME:PDT
DTSTART:20180311T100000
END:DAYLIGHT
BEGIN:STANDARD
TZOFFSETFROM:-0700
TZOFFSETTO:-0800
TZNAME:PST
DTSTART:20181104T090000
END:STANDARD
END:VTIMEZONE
BEGIN:VEVENT
DTSTART;TZID=America/Los_Angeles:20170416T083000
DTEND;TZID=America/Los_Angeles:20170416T120000
DTSTAMP:20260422T050742
CREATED:20170301T001859Z
LAST-MODIFIED:20170328T230448Z
UID:641-1492331400-1492344000@www.lcfelko.org
SUMMARY:Easter Breakfast-Service & Sun. School
DESCRIPTION:In-lieu of our regularly scheduled Early Service\, we will be having an Easter Breakfast from 8:30am-10:00am.   The breakfast will be a “potluck style – Share-A-Dish” Breakfast meal with folks bringing dishes to share as they are willing and able.  A sign-up sheet to bring various dishes is located on the Information Station.  All dishes will need to be prepared and available by 8:00am.  We will then clean-up and have a Combined Easter Service beginning at 10:30am.  We will also be having our Sunday School classes.  For more information\, please call 778-9502.
URL:https://www.lcfelko.org/event/easter-breakfast-services-sun-school/
LOCATION:Lighthouse Christian Fellowship\, 2225 Industrial Way\, Elko\, NV\, 89801
END:VEVENT
BEGIN:VEVENT
DTSTART;TZID=America/Los_Angeles:20170416T140000
DTEND;TZID=America/Los_Angeles:20170416T150000
DTSTAMP:20260422T050742
CREATED:20170314T185231Z
LAST-MODIFIED:20170314T185231Z
UID:733-1492351200-1492354800@www.lcfelko.org
SUMMARY:Highland Ministry
DESCRIPTION:On the 1st\, 3rd\, and 4th Sunday of each month\, we spend quality time with our Senior community at Highland Village through hymns\, the Word of God\, and prayer from 2:00-3:00 pm. If you wish to join us during this time\, please check in at the Nurse’s Station or for more information about this ministry\, please contact Josh Park or Pastor Dan Romans.
URL:https://www.lcfelko.org/event/highland-ministry-7/
LOCATION:Rep-Highland Village\, 2850 Ruby Vista Drive\, Elko\, NV\, 89801\, United States
END:VEVENT
BEGIN:VEVENT
DTSTART;TZID=America/Los_Angeles:20170416T173000
DTEND;TZID=America/Los_Angeles:20170416T190000
DTSTAMP:20260422T050742
CREATED:20170328T180713Z
LAST-MODIFIED:20170328T180713Z
UID:746-1492363800-1492369200@www.lcfelko.org
SUMMARY:PM Study Cancelled
DESCRIPTION:This evening study has been temporarily cancelled…
URL:https://www.lcfelko.org/event/pm-study-cancelled-4/
LOCATION:Lighthouse Christian Fellowship\, 2225 Industrial Way\, Elko\, NV\, 89801
END:VEVENT
END:VCALENDAR