BEGIN:VCALENDAR
VERSION:2.0
PRODID:-//Lighthouse Christian Fellowship - ECPv6.15.20//NONSGML v1.0//EN
CALSCALE:GREGORIAN
METHOD:PUBLISH
X-ORIGINAL-URL:https://www.lcfelko.org
X-WR-CALDESC:Events for Lighthouse Christian Fellowship
REFRESH-INTERVAL;VALUE=DURATION:PT1H
X-Robots-Tag:noindex
X-PUBLISHED-TTL:PT1H
BEGIN:VTIMEZONE
TZID:America/Los_Angeles
BEGIN:DAYLIGHT
TZOFFSETFROM:-0800
TZOFFSETTO:-0700
TZNAME:PDT
DTSTART:20160313T100000
END:DAYLIGHT
BEGIN:STANDARD
TZOFFSETFROM:-0700
TZOFFSETTO:-0800
TZNAME:PST
DTSTART:20161106T090000
END:STANDARD
BEGIN:DAYLIGHT
TZOFFSETFROM:-0800
TZOFFSETTO:-0700
TZNAME:PDT
DTSTART:20170312T100000
END:DAYLIGHT
BEGIN:STANDARD
TZOFFSETFROM:-0700
TZOFFSETTO:-0800
TZNAME:PST
DTSTART:20171105T090000
END:STANDARD
BEGIN:DAYLIGHT
TZOFFSETFROM:-0800
TZOFFSETTO:-0700
TZNAME:PDT
DTSTART:20180311T100000
END:DAYLIGHT
BEGIN:STANDARD
TZOFFSETFROM:-0700
TZOFFSETTO:-0800
TZNAME:PST
DTSTART:20181104T090000
END:STANDARD
END:VTIMEZONE
BEGIN:VEVENT
DTSTART;TZID=America/Los_Angeles:20170408T070000
DTEND;TZID=America/Los_Angeles:20170408T090000
DTSTAMP:20260422T050816
CREATED:20170314T183254Z
LAST-MODIFIED:20170314T183254Z
UID:703-1491634800-1491642000@www.lcfelko.org
SUMMARY:Men's Prayer & Breakfast
DESCRIPTION:The men and friends of Lighthouse Christian Fellowship meet at the church to pray about the issues of life and praise our Lord for all that He is doing. After a time of prayer & praise the men will go to breakfast at a local restaurant.
URL:https://www.lcfelko.org/event/mens-prayer-breakfast-14/
LOCATION:Lighthouse Christian Fellowship\, 2225 Industrial Way\, Elko\, NV\, 89801
END:VEVENT
BEGIN:VEVENT
DTSTART;TZID=America/Los_Angeles:20170408T093000
DTEND;TZID=America/Los_Angeles:20170408T113000
DTSTAMP:20260422T050816
CREATED:20170314T182959Z
LAST-MODIFIED:20170314T182959Z
UID:699-1491643800-1491651000@www.lcfelko.org
SUMMARY:Ladies 2nd Saturdays
DESCRIPTION:Ladies\, please join us for some quality time! Come on over to Maxine’s home; have some breakfast\, pour yourself a cup of goodness\, and get comfy as we connect with each other and\, more importantly\, with the Lord. This will be the final 2nd Saturdays event of 2017.  We look forward to seeing you there…
URL:https://www.lcfelko.org/event/ladies-2nd-saturdays-3/
LOCATION:M&M’s Home\, 1554 Stitzel Rd.\, Elko\, NV\, 89801
END:VEVENT
END:VCALENDAR