BEGIN:VCALENDAR
VERSION:2.0
PRODID:-//Lighthouse Christian Fellowship - ECPv6.15.20//NONSGML v1.0//EN
CALSCALE:GREGORIAN
METHOD:PUBLISH
X-WR-CALNAME:Lighthouse Christian Fellowship
X-ORIGINAL-URL:https://www.lcfelko.org
X-WR-CALDESC:Events for Lighthouse Christian Fellowship
REFRESH-INTERVAL;VALUE=DURATION:PT1H
X-Robots-Tag:noindex
X-PUBLISHED-TTL:PT1H
BEGIN:VTIMEZONE
TZID:America/Los_Angeles
BEGIN:DAYLIGHT
TZOFFSETFROM:-0800
TZOFFSETTO:-0700
TZNAME:PDT
DTSTART:20160313T100000
END:DAYLIGHT
BEGIN:STANDARD
TZOFFSETFROM:-0700
TZOFFSETTO:-0800
TZNAME:PST
DTSTART:20161106T090000
END:STANDARD
BEGIN:DAYLIGHT
TZOFFSETFROM:-0800
TZOFFSETTO:-0700
TZNAME:PDT
DTSTART:20170312T100000
END:DAYLIGHT
BEGIN:STANDARD
TZOFFSETFROM:-0700
TZOFFSETTO:-0800
TZNAME:PST
DTSTART:20171105T090000
END:STANDARD
BEGIN:DAYLIGHT
TZOFFSETFROM:-0800
TZOFFSETTO:-0700
TZNAME:PDT
DTSTART:20180311T100000
END:DAYLIGHT
BEGIN:STANDARD
TZOFFSETFROM:-0700
TZOFFSETTO:-0800
TZNAME:PST
DTSTART:20181104T090000
END:STANDARD
END:VTIMEZONE
BEGIN:VEVENT
DTSTART;TZID=America/Los_Angeles:20170219T083000
DTEND;TZID=America/Los_Angeles:20170219T100000
DTSTAMP:20260422T224030
CREATED:20170130T192812Z
LAST-MODIFIED:20170130T202415Z
UID:483-1487493000-1487498400@www.lcfelko.org
SUMMARY:Early Service
DESCRIPTION:Verse-by-verse teaching through the Holy Bible (Genesis – Revelation). We are currently in the Book of Revelation…
URL:https://www.lcfelko.org/event/morning-service-7/
LOCATION:Lighthouse Christian Fellowship\, 2225 Industrial Way\, Elko\, NV\, 89801
END:VEVENT
BEGIN:VEVENT
DTSTART;TZID=America/Los_Angeles:20170219T103000
DTEND;TZID=America/Los_Angeles:20170219T120000
DTSTAMP:20260422T224030
CREATED:20170130T193132Z
LAST-MODIFIED:20170130T193329Z
UID:489-1487500200-1487505600@www.lcfelko.org
SUMMARY:Service & Sun. School
DESCRIPTION:Verse-by-verse teaching through the Holy Bible (Genesis – Revelation). We are currently in the Book of Revelation…
URL:https://www.lcfelko.org/event/service-sunday-school-7/
LOCATION:Lighthouse Christian Fellowship\, 2225 Industrial Way\, Elko\, NV\, 89801
END:VEVENT
BEGIN:VEVENT
DTSTART;TZID=America/Los_Angeles:20170219T140000
DTEND;TZID=America/Los_Angeles:20170219T150000
DTSTAMP:20260422T224030
CREATED:20170130T201537Z
LAST-MODIFIED:20170130T201732Z
UID:517-1487512800-1487516400@www.lcfelko.org
SUMMARY:Highland Ministry
DESCRIPTION:On the 1st\, 3rd\, and 4th Sunday of each month\, we spend quality time with our Senior community at Highland Village through hymns\, the Word of God\, and prayer from 2:00-3:00 pm. If you wish to join us during this time\, please check in at the Nurse’s Station or for more information about this ministry\, please contact Josh Park or Pastor Dan Romans.
URL:https://www.lcfelko.org/event/highland-ministry/
LOCATION:Rep-Highland Village\, 2850 Ruby Vista Drive\, Elko\, NV\, 89801\, United States
END:VEVENT
BEGIN:VEVENT
DTSTART;TZID=America/Los_Angeles:20170219T173000
DTEND;TZID=America/Los_Angeles:20170219T190000
DTSTAMP:20260422T224030
CREATED:20170130T200738Z
LAST-MODIFIED:20170130T200738Z
UID:512-1487525400-1487530800@www.lcfelko.org
SUMMARY:Evening Study
DESCRIPTION:All are welcome to come to this study as we are led by the Holy Spirit to discover what our Redeemer is speaking to us through written Word. Expect to encounter His presence through prayer\, music\, and His word…
URL:https://www.lcfelko.org/event/evening-study-2/
LOCATION:Lighthouse Christian Fellowship\, 2225 Industrial Way\, Elko\, NV\, 89801
END:VEVENT
END:VCALENDAR