BEGIN:VCALENDAR
VERSION:2.0
PRODID:-//Lighthouse Christian Fellowship - ECPv6.15.20//NONSGML v1.0//EN
CALSCALE:GREGORIAN
METHOD:PUBLISH
X-WR-CALNAME:Lighthouse Christian Fellowship
X-ORIGINAL-URL:https://www.lcfelko.org
X-WR-CALDESC:Events for Lighthouse Christian Fellowship
REFRESH-INTERVAL;VALUE=DURATION:PT1H
X-Robots-Tag:noindex
X-PUBLISHED-TTL:PT1H
BEGIN:VTIMEZONE
TZID:UTC
BEGIN:STANDARD
TZOFFSETFROM:+0000
TZOFFSETTO:+0000
TZNAME:UTC
DTSTART:20160101T000000
END:STANDARD
END:VTIMEZONE
BEGIN:VEVENT
DTSTART;TZID=UTC:20170104T180000
DTEND;TZID=UTC:20170104T200000
DTSTAMP:20260424T182810
CREATED:20161221T212335Z
LAST-MODIFIED:20161221T212335Z
UID:314-1483552800-1483560000@www.lcfelko.org
SUMMARY:Wednesday\, Jan. 4 – Mid-Week Adult-Teen-Children’s Bible Studies
DESCRIPTION:A potluck-style meal will begin at 6:00 pm with worship and the word to follow.  Please bring a dish to share if you are able
URL:https://www.lcfelko.org/event/wednesday-jan-4-mid-week-adult-teen-childrens-bible-studies/
LOCATION:NV
END:VEVENT
END:VCALENDAR