BEGIN:VCALENDAR
VERSION:2.0
PRODID:-//Lighthouse Christian Fellowship - ECPv6.15.20//NONSGML v1.0//EN
CALSCALE:GREGORIAN
METHOD:PUBLISH
X-WR-CALNAME:Lighthouse Christian Fellowship
X-ORIGINAL-URL:https://www.lcfelko.org
X-WR-CALDESC:Events for Lighthouse Christian Fellowship
REFRESH-INTERVAL;VALUE=DURATION:PT1H
X-Robots-Tag:noindex
X-PUBLISHED-TTL:PT1H
BEGIN:VTIMEZONE
TZID:America/Vancouver
BEGIN:DAYLIGHT
TZOFFSETFROM:-0800
TZOFFSETTO:-0700
TZNAME:PDT
DTSTART:20150308T100000
END:DAYLIGHT
BEGIN:STANDARD
TZOFFSETFROM:-0700
TZOFFSETTO:-0800
TZNAME:PST
DTSTART:20151101T090000
END:STANDARD
BEGIN:DAYLIGHT
TZOFFSETFROM:-0800
TZOFFSETTO:-0700
TZNAME:PDT
DTSTART:20160313T100000
END:DAYLIGHT
BEGIN:STANDARD
TZOFFSETFROM:-0700
TZOFFSETTO:-0800
TZNAME:PST
DTSTART:20161106T090000
END:STANDARD
BEGIN:DAYLIGHT
TZOFFSETFROM:-0800
TZOFFSETTO:-0700
TZNAME:PDT
DTSTART:20170312T100000
END:DAYLIGHT
BEGIN:STANDARD
TZOFFSETFROM:-0700
TZOFFSETTO:-0800
TZNAME:PST
DTSTART:20171105T090000
END:STANDARD
END:VTIMEZONE
BEGIN:VEVENT
DTSTART;VALUE=DATE:20161228
DTEND;VALUE=DATE:20161229
DTSTAMP:20260424T030909
CREATED:20161221T211723Z
LAST-MODIFIED:20161221T211803Z
UID:304-1482883200-1482969599@www.lcfelko.org
SUMMARY:Mid Week Studies are Cancelled Until January 4\, 2017
DESCRIPTION:Take this time to share the reality of Christ birth with family\, friends\, and others…
URL:https://www.lcfelko.org/event/mid-week-studies-cancelled-january-4-2017-2/
LOCATION:NV
END:VEVENT
END:VCALENDAR