BEGIN:VCALENDAR
VERSION:2.0
PRODID:-//Lighthouse Christian Fellowship - ECPv6.15.20//NONSGML v1.0//EN
CALSCALE:GREGORIAN
METHOD:PUBLISH
X-WR-CALNAME:Lighthouse Christian Fellowship
X-ORIGINAL-URL:https://www.lcfelko.org
X-WR-CALDESC:Events for Lighthouse Christian Fellowship
REFRESH-INTERVAL;VALUE=DURATION:PT1H
X-Robots-Tag:noindex
X-PUBLISHED-TTL:PT1H
BEGIN:VTIMEZONE
TZID:America/Vancouver
BEGIN:DAYLIGHT
TZOFFSETFROM:-0800
TZOFFSETTO:-0700
TZNAME:PDT
DTSTART:20150308T100000
END:DAYLIGHT
BEGIN:STANDARD
TZOFFSETFROM:-0700
TZOFFSETTO:-0800
TZNAME:PST
DTSTART:20151101T090000
END:STANDARD
BEGIN:DAYLIGHT
TZOFFSETFROM:-0800
TZOFFSETTO:-0700
TZNAME:PDT
DTSTART:20160313T100000
END:DAYLIGHT
BEGIN:STANDARD
TZOFFSETFROM:-0700
TZOFFSETTO:-0800
TZNAME:PST
DTSTART:20161106T090000
END:STANDARD
BEGIN:DAYLIGHT
TZOFFSETFROM:-0800
TZOFFSETTO:-0700
TZNAME:PDT
DTSTART:20170312T100000
END:DAYLIGHT
BEGIN:STANDARD
TZOFFSETFROM:-0700
TZOFFSETTO:-0800
TZNAME:PST
DTSTART:20171105T090000
END:STANDARD
END:VTIMEZONE
BEGIN:VEVENT
DTSTART;VALUE=DATE:20161225
DTEND;VALUE=DATE:20161226
DTSTAMP:20260424T030913
CREATED:20161221T210334Z
LAST-MODIFIED:20161221T210403Z
UID:295-1482624000-1482710399@www.lcfelko.org
SUMMARY:Sunday\, Dec. 25 – Sunday Night Bible Studies Cancelled
DESCRIPTION:The Sunday Night Bible studies will resume on January 8th
URL:https://www.lcfelko.org/event/sunday-dec-25-sunday-night-bible-studies-cancelled/
LOCATION:NV
END:VEVENT
BEGIN:VEVENT
DTSTART;TZID=America/Vancouver:20161225T103000
DTEND;TZID=America/Vancouver:20161225T120000
DTSTAMP:20260424T030913
CREATED:20161221T210233Z
LAST-MODIFIED:20161221T210828Z
UID:293-1482661800-1482667200@www.lcfelko.org
SUMMARY:Sunday\, Dec. 25 – Combined Christmas Service at 10:30am
DESCRIPTION:The 8:30am service will be cancelled on this day.  There will also be a Combined Sunday Service on   January 1st at 10:30 am.
URL:https://www.lcfelko.org/event/sunday-dec-25-combined-christmas-service-1030am/
LOCATION:NV
END:VEVENT
BEGIN:VEVENT
DTSTART;TZID=America/Vancouver:20161225T140000
DTEND;TZID=America/Vancouver:20161225T150000
DTSTAMP:20260424T030913
CREATED:20161221T211206Z
LAST-MODIFIED:20161221T211206Z
UID:300-1482674400-1482678000@www.lcfelko.org
SUMMARY:Sunday\, Dec. 25 – Highland Village Ministry
DESCRIPTION:Join us at 2:00 pm in the Back Rec. Hall of the Assisted Living Quarters.
URL:https://www.lcfelko.org/event/sunday-dec-25-highland-village-ministry/
LOCATION:NV
END:VEVENT
END:VCALENDAR